BEGIN:VCALENDAR
VERSION:2.0
PRODID:-//Section du personnel - Portail du CREP - ECPv6.10.3//NONSGML v1.0//EN
CALSCALE:GREGORIAN
METHOD:PUBLISH
X-WR-CALNAME:Section du personnel - Portail du CREP
X-ORIGINAL-URL:https://infocrep.cssdm.gouv.qc.ca/enseignants
X-WR-CALDESC:Évènements pour Section du personnel - Portail du CREP
REFRESH-INTERVAL;VALUE=DURATION:PT1H
X-Robots-Tag:noindex
X-PUBLISHED-TTL:PT1H
BEGIN:VTIMEZONE
TZID:America/New_York
BEGIN:DAYLIGHT
TZOFFSETFROM:-0500
TZOFFSETTO:-0400
TZNAME:EDT
DTSTART:20260308T070000
END:DAYLIGHT
BEGIN:STANDARD
TZOFFSETFROM:-0400
TZOFFSETTO:-0500
TZNAME:EST
DTSTART:20261101T060000
END:STANDARD
END:VTIMEZONE
BEGIN:VEVENT
DTSTART;TZID=America/New_York:20260602T084500
DTEND;TZID=America/New_York:20260602T120000
DTSTAMP:20260419T221059
CREATED:20250820T143840Z
LAST-MODIFIED:20250820T143840Z
UID:10083-1780389900-1780401600@infocrep.cssdm.gouv.qc.ca
SUMMARY:Rencontre de suivis de l’établissement de détention de Montréal (EDM)
DESCRIPTION:
URL:https://infocrep.cssdm.gouv.qc.ca/enseignants/event/rencontre-de-suivis-de-letablissement-de-detention-de-montreal-edm-10/
END:VEVENT
BEGIN:VEVENT
DTSTART;TZID=America/New_York:20260604T090000
DTEND;TZID=America/New_York:20260604T120000
DTSTAMP:20260419T221059
CREATED:20250820T164346Z
LAST-MODIFIED:20250820T164346Z
UID:10111-1780563600-1780574400@infocrep.cssdm.gouv.qc.ca
SUMMARY:Passation du TDG au CREP
DESCRIPTION:Cliquez sur ce lien pour accéder à la procédure: \n\nPassation du test de développement général (TDG) au CREP
URL:https://infocrep.cssdm.gouv.qc.ca/enseignants/event/passation-du-tdg-au-crep-24/
END:VEVENT
BEGIN:VEVENT
DTSTART;TZID=America/New_York:20260605T084500
DTEND;TZID=America/New_York:20260605T120000
DTSTAMP:20260419T221059
CREATED:20250820T143948Z
LAST-MODIFIED:20250919T203934Z
UID:10085-1780649100-1780660800@infocrep.cssdm.gouv.qc.ca
SUMMARY:Rencontre du service de Participation sociale (PS)/ DHS
DESCRIPTION:
URL:https://infocrep.cssdm.gouv.qc.ca/enseignants/event/rencontre-du-service-de-participation-sociale-ps-dhs-evr-rae-8/
END:VEVENT
BEGIN:VEVENT
DTSTART;TZID=America/New_York:20260612T084500
DTEND;TZID=America/New_York:20260612T120000
DTSTAMP:20260419T221059
CREATED:20250820T144352Z
LAST-MODIFIED:20250919T203956Z
UID:10087-1781253900-1781265600@infocrep.cssdm.gouv.qc.ca
SUMMARY:Rencontre du service de l’Intégration socioprofessionnelle (ISP)/ EVR
DESCRIPTION:
URL:https://infocrep.cssdm.gouv.qc.ca/enseignants/event/rencontre-du-service-de-lintegration-socioprofessionnelle-isp-39/
END:VEVENT
BEGIN:VEVENT
DTSTART;VALUE=DATE:20260624
DTEND;VALUE=DATE:20260625
DTSTAMP:20260419T221059
CREATED:20250820T144438Z
LAST-MODIFIED:20250820T144438Z
UID:10089-1782259200-1782345599@infocrep.cssdm.gouv.qc.ca
SUMMARY:Congés\, fermeture et jours fériés
DESCRIPTION:
URL:https://infocrep.cssdm.gouv.qc.ca/enseignants/event/conges-fermeture-et-jours-feries-12/
END:VEVENT
BEGIN:VEVENT
DTSTART;VALUE=DATE:20260630
DTEND;VALUE=DATE:20260701
DTSTAMP:20260419T221059
CREATED:20250820T144527Z
LAST-MODIFIED:20250820T144527Z
UID:10091-1782777600-1782863999@infocrep.cssdm.gouv.qc.ca
SUMMARY:Journée pédagogique (congé pour les élèves\, travail pour les enseignants)
DESCRIPTION:
URL:https://infocrep.cssdm.gouv.qc.ca/enseignants/event/journee-pedagogique-conge-pour-les-eleves-travail-pour-les-enseignants-15/
END:VEVENT
END:VCALENDAR