BEGIN:VCALENDAR
VERSION:2.0
PRODID:-//Section du personnel - Portail du CREP - ECPv6.10.3//NONSGML v1.0//EN
CALSCALE:GREGORIAN
METHOD:PUBLISH
X-WR-CALNAME:Section du personnel - Portail du CREP
X-ORIGINAL-URL:https://infocrep.cssdm.gouv.qc.ca/enseignants
X-WR-CALDESC:Évènements pour Section du personnel - Portail du CREP
REFRESH-INTERVAL;VALUE=DURATION:PT1H
X-Robots-Tag:noindex
X-PUBLISHED-TTL:PT1H
BEGIN:VTIMEZONE
TZID:America/New_York
BEGIN:DAYLIGHT
TZOFFSETFROM:-0500
TZOFFSETTO:-0400
TZNAME:EDT
DTSTART:20240310T070000
END:DAYLIGHT
BEGIN:STANDARD
TZOFFSETFROM:-0400
TZOFFSETTO:-0500
TZNAME:EST
DTSTART:20241103T060000
END:STANDARD
END:VTIMEZONE
BEGIN:VEVENT
DTSTART;TZID=America/New_York:20240606T090000
DTEND;TZID=America/New_York:20240606T120000
DTSTAMP:20260420T193908
CREATED:20240315T190135Z
LAST-MODIFIED:20240509T140530Z
UID:7962-1717664400-1717675200@infocrep.cssdm.gouv.qc.ca
SUMMARY:Passation du TDG au CREP
DESCRIPTION:Cliquez sur ce lien pour accéder à la procédure: \n\nPassation du test de développement général (TDG) au CREP
URL:https://infocrep.cssdm.gouv.qc.ca/enseignants/event/passation-du-tdg-au-crep-3/
END:VEVENT
BEGIN:VEVENT
DTSTART;TZID=America/New_York:20240607T084500
DTEND;TZID=America/New_York:20240607T114500
DTSTAMP:20260420T193908
CREATED:20231222T151310Z
LAST-MODIFIED:20240605T205906Z
UID:7630-1717749900-1717760700@infocrep.cssdm.gouv.qc.ca
SUMMARY:Rencontre du service de l’Intégration sociale (IS)
DESCRIPTION:Les enseignant.es à taux horaire sont invité.es! \nMerci de bien vouloir apporter votre ordinateur. \n08h30 Accueil et jasette \n08h45 Infos stratégiques (Maude et Sébastien) \n09h15 Bilan et prospectives (Maude et Sébastien) \n\nBilan: Faire émerger les avancées de cette année\, les sujets abordés…\nProspectives: Consulter sur les souhaits pour l’an prochain (forme\, organisation et contenu des rencontres).\n\n10h30 – Pause \n10h45 – Travail collaboratif libre \n11h30 Rencontre d’information sur la maîtrise qualifiante en IS-ISP à l’UQAM  (Enseignants.es non légalement qualifiés.es)
URL:https://infocrep.cssdm.gouv.qc.ca/enseignants/event/rencontre-du-service-de-lintegration-sociale-is-10/
CATEGORIES:Service de l'Intégration sociale
END:VEVENT
BEGIN:VEVENT
DTSTART;TZID=America/New_York:20240607T084500
DTEND;TZID=America/New_York:20240607T114500
DTSTAMP:20260420T193908
CREATED:20240221T204509Z
LAST-MODIFIED:20240606T191523Z
UID:7858-1717749900-1717760700@infocrep.cssdm.gouv.qc.ca
SUMMARY:Rencontre du service de l’Intégration socioprofessionnelle (ISP)
DESCRIPTION:Notez que la rencontre se tiendra au 1er étage au local 1081. \n  \n\n\n\n\n\n\n\nOrdre du Jour :\n\nAccueil et ordre du jour\nPoints stratégiques : \n\nEnseignants recherchés en ISP\nCollecte de donnée PÉ (Moodle)\nMoyen du projet éducatif\nManifestation d’intérêt – taux horaire \nRappels\n\n\nBilan \nProspectives\n\n*La rencontre se tiendra au 1er étage local 1081 \n* Début de la rencontre à 8 h 45
URL:https://infocrep.cssdm.gouv.qc.ca/enseignants/event/rencontre-du-service-de-lintegration-socioprofessionnelle-isp-19/
CATEGORIES:Service de l'Intégration socioprofessionnelle (ISP)
END:VEVENT
BEGIN:VEVENT
DTSTART;TZID=America/New_York:20240610T084500
DTEND;TZID=America/New_York:20240610T114500
DTSTAMP:20260420T193908
CREATED:20231222T151412Z
LAST-MODIFIED:20231222T151412Z
UID:7633-1718009100-1718019900@infocrep.cssdm.gouv.qc.ca
SUMMARY:Rencontre de suivis de l’EDM
DESCRIPTION:
URL:https://infocrep.cssdm.gouv.qc.ca/enseignants/event/rencontre-de-suivis-de-ledm-7/
CATEGORIES:Suivis de l’EDM
END:VEVENT
BEGIN:VEVENT
DTSTART;TZID=America/New_York:20240620T090000
DTEND;TZID=America/New_York:20240620T120000
DTSTAMP:20260420T193908
CREATED:20240416T195113Z
LAST-MODIFIED:20240416T195113Z
UID:8072-1718874000-1718884800@infocrep.cssdm.gouv.qc.ca
SUMMARY:Passation du TDG au CREP
DESCRIPTION:Cliquez sur ce lien pour accéder à la procédure: \n\nPassation du test de développement général (TDG) au CREP
URL:https://infocrep.cssdm.gouv.qc.ca/enseignants/event/passation-du-tdg-au-crep-4/
CATEGORIES:Pour tous
END:VEVENT
BEGIN:VEVENT
DTSTART;VALUE=DATE:20240624
DTEND;VALUE=DATE:20240625
DTSTAMP:20260420T193908
CREATED:20231222T151455Z
LAST-MODIFIED:20231222T151455Z
UID:7635-1719187200-1719273599@infocrep.cssdm.gouv.qc.ca
SUMMARY:Congé et jour férié
DESCRIPTION:
URL:https://infocrep.cssdm.gouv.qc.ca/enseignants/event/conge-et-jour-ferie-8/
CATEGORIES:Congé et férié
END:VEVENT
END:VCALENDAR