BEGIN:VCALENDAR
VERSION:2.0
PRODID:-//Section du personnel - Portail du CREP - ECPv6.10.3//NONSGML v1.0//EN
CALSCALE:GREGORIAN
METHOD:PUBLISH
X-WR-CALNAME:Section du personnel - Portail du CREP
X-ORIGINAL-URL:https://infocrep.cssdm.gouv.qc.ca/enseignants
X-WR-CALDESC:Évènements pour Section du personnel - Portail du CREP
REFRESH-INTERVAL;VALUE=DURATION:PT1H
X-Robots-Tag:noindex
X-PUBLISHED-TTL:PT1H
BEGIN:VTIMEZONE
TZID:America/New_York
BEGIN:DAYLIGHT
TZOFFSETFROM:-0500
TZOFFSETTO:-0400
TZNAME:EDT
DTSTART:20240310T070000
END:DAYLIGHT
BEGIN:STANDARD
TZOFFSETFROM:-0400
TZOFFSETTO:-0500
TZNAME:EST
DTSTART:20241103T060000
END:STANDARD
END:VTIMEZONE
BEGIN:VEVENT
DTSTART;VALUE=DATE:20240401
DTEND;VALUE=DATE:20240402
DTSTAMP:20260419T112654
CREATED:20231221T192156Z
LAST-MODIFIED:20231221T192156Z
UID:7593-1711929600-1712015999@infocrep.cssdm.gouv.qc.ca
SUMMARY:Congé et jour férié
DESCRIPTION:
URL:https://infocrep.cssdm.gouv.qc.ca/enseignants/event/conge-et-jour-ferie-6/
CATEGORIES:Congé et férié
END:VEVENT
BEGIN:VEVENT
DTSTART;TZID=America/New_York:20240404T090000
DTEND;TZID=America/New_York:20240404T120000
DTSTAMP:20260419T112654
CREATED:20240315T185851Z
LAST-MODIFIED:20240315T185851Z
UID:7958-1712221200-1712232000@infocrep.cssdm.gouv.qc.ca
SUMMARY:Passation du TDG au CREP
DESCRIPTION:Cliquez sur ce lien pour accéder à la procédure: \n\nPassation du test de développement général (TDG) au CREP
URL:https://infocrep.cssdm.gouv.qc.ca/enseignants/event/passation-du-tdg-au-crep/
END:VEVENT
BEGIN:VEVENT
DTSTART;TZID=America/New_York:20240405T084500
DTEND;TZID=America/New_York:20240405T114500
DTSTAMP:20260419T112654
CREATED:20231221T195346Z
LAST-MODIFIED:20240402T195034Z
UID:7595-1712306700-1712317500@infocrep.cssdm.gouv.qc.ca
SUMMARY:Atelier ouvert aux partenaires : Gestion des comportements difficiles et prévention de la crise
DESCRIPTION:Cet atelier est une reprise de l’atelier « ABC de la gestion de crise » offert l’an passé le 14 avril.  \nNotez que cet atelier qui aura lieu au CREP est également ouvert à nos partenaires. Afin d’offrir la possibilité au plus grand nombre de partenaires d’y participer\, nous offrons deux places par partenaire (sans compter l’enseignant). Dans l’objectif d’offrir un climat permettant les échanges constructifs\, nous limiterons cet atelier à un maximum de 20 personnes. Veuillez communiquer avec l’accueil du CREP pour vous inscrire en écrivant à : crep@csdm.qc.ca \n  \nCet atelier offert par Tanya Bousquet St-Laurent\, psychoéducatrice au CREP\, permet d’explorer le concept de crise en général\, pour ensuite se concentrer sur les aspects de prévention et un bref aperçu des pratiques à préconiser pour l’intervention face à des comportements agressifs. \n  \nCet atelier visera l’échange entre les participants et le travail autour de mises en situation pour planifier et concevoir des interventions adaptées selon les contextes (identification des besoins\, évaluation du risque\, contexte humain – groupe/individuel\, etc.) Il vise également à permettre aux participants de clarifier leur posture\, leur niveau d’aisance et leurs responsabilités face à l’intervention de crise. \n  \nPour vous inscrire à l’atelier \nAfin d’offrir la possibilité au plus grand nombre de partenaires d’y participer\, nous offrons deux places par organisme partenaire (sans compter l’enseignant).  Nous limiterons cet atelier à un maximum de 20 personnes. \n\nVeuillez remplir le formulaire en cliquant ici pour vous inscrire.\n\n  \nRémunération des enseignants lors des ateliers et formations \nLes enseignants à taux horaire sont invités à faire une demande au Comité local de perfectionnement (CLP) pour les formations et ateliers offerts au CREP à l’adresse suivante houle.v@csdm.qc.ca. \nVeuillez remplir ce fichier et le faire suivre à la même adresse: \n\nPerfectionnement du personnel enseignant – demande d’aide financière (D010)\n\nNotez qu’il n’est pas nécessaire de faire une telle demande pour les rencontres des services d’enseignement. Tous les enseignants seront rémunérés lors des rencontres des services d’enseignement.
URL:https://infocrep.cssdm.gouv.qc.ca/enseignants/event/formation-ouverte-aux-partenaires-et-enseignants-gestion-des-comportements-difficiles-et-prevention-de-la-crise/
CATEGORIES:Rencontres et formations
END:VEVENT
BEGIN:VEVENT
DTSTART;TZID=America/New_York:20240405T130000
DTEND;TZID=America/New_York:20240405T160000
DTSTAMP:20260419T112654
CREATED:20231221T195606Z
LAST-MODIFIED:20240402T203000Z
UID:7597-1712322000-1712332800@infocrep.cssdm.gouv.qc.ca
SUMMARY:Rencontre du service de la Francisation (FLS)- Reportée au 12 avril à 13h30
DESCRIPTION:
URL:https://infocrep.cssdm.gouv.qc.ca/enseignants/event/rencontre-du-service-de-la-francisation-fls-5/
CATEGORIES:Service Francisation
END:VEVENT
BEGIN:VEVENT
DTSTART;TZID=America/New_York:20240412T084500
DTEND;TZID=America/New_York:20240412T114500
DTSTAMP:20260419T112654
CREATED:20231221T195716Z
LAST-MODIFIED:20240221T202650Z
UID:7599-1712911500-1712922300@infocrep.cssdm.gouv.qc.ca
SUMMARY:Rencontre du service de l’Intégration socioprofessionnelle (ISP) - Reportée au 26 avril
DESCRIPTION:
URL:https://infocrep.cssdm.gouv.qc.ca/enseignants/event/rencontre-du-service-de-lintegration-socioprofessionnelle-isp-14/
CATEGORIES:Service de l'Intégration socioprofessionnelle (ISP)
END:VEVENT
BEGIN:VEVENT
DTSTART;TZID=America/New_York:20240412T090000
DTEND;TZID=America/New_York:20240412T120000
DTSTAMP:20260419T112654
CREATED:20240405T140119Z
LAST-MODIFIED:20240411T141346Z
UID:8004-1712912400-1712923200@infocrep.cssdm.gouv.qc.ca
SUMMARY:Atelier libre avec les conseillers pédagogiques
DESCRIPTION:Rémunération lors des ateliers et formations pour les enseignants à taux horaire\n*Notez que si moins de 5 personnes sont inscrites à l’atelier nous annulerons la rencontre. \nLes enseignants à taux horaire sont invités à faire une demande au Comité local de perfectionnement (CLP) pour les formations et ateliers offerts au CREP à l’adresse suivante houle.v@csdm.qc.ca. \nVeuillez remplir ce fichier et le faire suivre à la même adresse: \n\nPerfectionnement du personnel enseignant – demande d’aide financière (D010) : https://infocrep.cssdm.gouv.qc.ca/enseignants/wp-content/uploads/sites/6/securepdfs/2023/11/formulaires_pdf_D010.pdf \n\n  \nPour vous inscrire à l’atelier veuillez inscrire votre nom dans ce formulaire en cliquant ICI.\n 
URL:https://infocrep.cssdm.gouv.qc.ca/enseignants/event/atelier-libre-avec-les-conseillers-pedagogiques/
CATEGORIES:Rencontres et formations
END:VEVENT
BEGIN:VEVENT
DTSTART;TZID=America/New_York:20240412T133000
DTEND;TZID=America/New_York:20240412T160000
DTSTAMP:20260419T112654
CREATED:20240404T182427Z
LAST-MODIFIED:20240404T182529Z
UID:8001-1712928600-1712937600@infocrep.cssdm.gouv.qc.ca
SUMMARY:Rencontre du service de la Francisation
DESCRIPTION:
URL:https://infocrep.cssdm.gouv.qc.ca/enseignants/event/rencontre-du-service-de-la-francisation-11/
CATEGORIES:Service Francisation
END:VEVENT
BEGIN:VEVENT
DTSTART;TZID=America/New_York:20240415T084500
DTEND;TZID=America/New_York:20240415T114500
DTSTAMP:20260419T112654
CREATED:20231221T195811Z
LAST-MODIFIED:20240411T200333Z
UID:7601-1713170700-1713181500@infocrep.cssdm.gouv.qc.ca
SUMMARY:Rencontre de suivis de l’EDM
DESCRIPTION:Lundi le 15 avril 2024 \nDe 11h00 à 12h00\, Salle 4 \n  \n\n\n\nPrésentation de l’ordre du jour:\n\n\nVolontaire pour la rencontre en lien avec les 2 tâches\n\n\nPrésentation de la conseillère pédagogique (Lydia Desrosiers)\n\n\nAménagement des tâches (absence Maguette)\n\n\nAttribution de postes\n\n\nProjet éducatif\, retour sur la journée du 8 avril\n\n\nRetour École de printemps (10 avril)\n\n\nÉconomusée du fier Monde\n\n\nJournées pédagogiques (18 et 19 avril)\n\n\nActivités de fin d’année (processus de sélection/Prix)
URL:https://infocrep.cssdm.gouv.qc.ca/enseignants/event/rencontre-de-suivis-de-ledm-5/
CATEGORIES:Suivis de l’EDM
END:VEVENT
BEGIN:VEVENT
DTSTART;TZID=America/New_York:20240417T080000
DTEND;TZID=America/New_York:20240418T170000
DTSTAMP:20260419T112654
CREATED:20240416T191159Z
LAST-MODIFIED:20240417T144514Z
UID:8053-1713340800-1713459600@infocrep.cssdm.gouv.qc.ca
SUMMARY:Salon de l’emploi et de la formation continue : 17 et 18 avril
DESCRIPTION:Salon de l’emploi et de la formation continue\nMercredi 17 avril de 12 h à 19 h et Jeudi 18 avril de 10 h à  18 h au Palais des congrès de Montréal \nSalle 210\n\n\n\n\n\nTrouvez votre chemin professionnel  au Salon de l’emploi et de la formation continue\n\n\n\n\nVous êtes à la recherche de nouvelles opportunités professionnelles\, d’un emploi stimulant et épanouissant ? Ne cherchez plus ! Le Salon de l’emploi et de la formation continue est l’événement incontournable gratuit pour tous ceux qui aspirent à une carrière réussie. On se retrouve le mercredi 17 avril  de 12 h à 19 h et le jeudi 18 avril de 10 h à 18 h au Palais des congrès de Montréal – salle 210\, plus de 250 exposants et 20 000 offres vous attendent.
URL:https://infocrep.cssdm.gouv.qc.ca/enseignants/event/salon-de-lemploi-et-de-la-formation-continue-17-et-18-avril/
CATEGORIES:Événements externes
END:VEVENT
BEGIN:VEVENT
DTSTART;TZID=America/New_York:20240418T080000
DTEND;TZID=America/New_York:20240418T160000
DTSTAMP:20260419T112654
CREATED:20231221T200022Z
LAST-MODIFIED:20240417T150307Z
UID:7604-1713427200-1713456000@infocrep.cssdm.gouv.qc.ca
SUMMARY:Journée pédagogique (congé pour les élèves\, travail pour les enseignants)
DESCRIPTION:Travail professionnel de 8h45 à 15h15 en organisme ou au CREP.  \nNotez que les enseignants à taux horaire ne sont pas rémunérés lors des journées pédagogiques lorsqu’ils ne sont pas convoqués à des rencontres\, ce qui est le cas présent.
URL:https://infocrep.cssdm.gouv.qc.ca/enseignants/event/journee-pedagogique-conge-pour-les-eleves-travail-pour-les-enseignants-3/
CATEGORIES:Journée pédagogique
END:VEVENT
BEGIN:VEVENT
DTSTART;TZID=America/New_York:20240419T080000
DTEND;TZID=America/New_York:20240419T160000
DTSTAMP:20260419T112654
CREATED:20231221T200105Z
LAST-MODIFIED:20240417T150355Z
UID:7606-1713513600-1713542400@infocrep.cssdm.gouv.qc.ca
SUMMARY:Journée pédagogique (congé pour les élèves\, travail pour les enseignants)
DESCRIPTION:Travail professionnel de 8h45 à 15h15 en organisme ou au CREP.  \nNotez que les enseignants à taux horaire ne sont pas rémunérés lors des journées pédagogiques lorsqu’ils ne sont pas convoqués à des rencontres\, ce qui est le cas présent.
URL:https://infocrep.cssdm.gouv.qc.ca/enseignants/event/journee-pedagogique-conge-pour-les-eleves-travail-pour-les-enseignants-4/
CATEGORIES:Journée pédagogique
END:VEVENT
BEGIN:VEVENT
DTSTART;TZID=America/New_York:20240426T084500
DTEND;TZID=America/New_York:20240426T114500
DTSTAMP:20260419T112654
CREATED:20231221T200218Z
LAST-MODIFIED:20240423T203129Z
UID:7608-1714121100-1714131900@infocrep.cssdm.gouv.qc.ca
SUMMARY:Rencontre du service de l’Intégration sociale (IS)
DESCRIPTION:Bonjour à toutes et à tous de CREP IS! \nJe vous confirme la tenue de la rencontre d’IS ce vendredi. La rencontre débutera à 9h00 dans les locaux du CREP. \nTous les enseignants.tes à taux horaire sont aussi conviés. \nMenu du jour:  \n9h00  – INFORMATIONS STRATÉGIQUES \n9h30  – PARTAGE de situation d’apprentissage \n10h00 – PAUSE 1 \n10h15 – PROGRAMME PPS: Nouvelles concernant le programmes d’études \n11h00 – Travail collaboratif libre \nAu plaisir de vous voir!
URL:https://infocrep.cssdm.gouv.qc.ca/enseignants/event/rencontre-du-service-de-lintegration-sociale-is-8/
CATEGORIES:Service de l'Intégration sociale
END:VEVENT
BEGIN:VEVENT
DTSTART;TZID=America/New_York:20240426T084500
DTEND;TZID=America/New_York:20240426T114500
DTSTAMP:20260419T112654
CREATED:20240221T202853Z
LAST-MODIFIED:20240423T203249Z
UID:7851-1714121100-1714131900@infocrep.cssdm.gouv.qc.ca
SUMMARY:Rencontre du service de l’Intégration socioprofessionnelle (ISP)
DESCRIPTION:Notez que la rencontre se tiendra au 4e étage au local 4031. \nOrdre du Jour :  \n\nAccueil et ordre du jour\nPoints stratégiques : \n\nManifestations d’intérêt 2024\nJournée pédagogique du 8 mai\nRemise des évaluations en juin \nFormation à venir: 3 mai “Violence sur les partenaires intimes”\n\n\nCFMS : précisions \nNouveauté : proposition de grilles d’observation (ISP-3016\, ISP-3015)  \nÉtat de la situation : actualisation des demandes d’attestations \nTravail libre : vos conseillers pédagogiques seront disponibles pour vous à la demande \n\n* Début de la rencontre à 8 h 45 \n 
URL:https://infocrep.cssdm.gouv.qc.ca/enseignants/event/rencontre-du-service-de-lintegration-socioprofessionnelle-isp-17/
CATEGORIES:Service de l'Intégration socioprofessionnelle (ISP)
END:VEVENT
BEGIN:VEVENT
DTSTART;TZID=America/New_York:20240426T130000
DTEND;TZID=America/New_York:20240426T141500
DTSTAMP:20260419T112654
CREATED:20231221T200312Z
LAST-MODIFIED:20231221T200312Z
UID:7610-1714136400-1714140900@infocrep.cssdm.gouv.qc.ca
SUMMARY:CPEPE
DESCRIPTION:
URL:https://infocrep.cssdm.gouv.qc.ca/enseignants/event/cpepe-9/
CATEGORIES:Rencontres et formations
END:VEVENT
BEGIN:VEVENT
DTSTART;TZID=America/New_York:20240430T080000
DTEND;TZID=America/New_York:20240430T170000
DTSTAMP:20260419T112654
CREATED:20240416T191916Z
LAST-MODIFIED:20240417T144624Z
UID:8055-1714464000-1714496400@infocrep.cssdm.gouv.qc.ca
SUMMARY:Journée Francophone des Femmes en Informatique
DESCRIPTION:À l’ÉTS le 30 avril 2024\nLa journée des femmes francophones en informatique (JFFI) est axée sur le réseautage\, l’apprentissage\, le partage et le mentorat. Elle incarne la mission d’encourager la curiosité et la sensibilisation aux innovations numériques qui changent la communauté et le monde qui nous entoure.\nLa journée réunit des étudiantes en informatique\, des leaders de la recherche\, de l’éducation\, de l’enseignement et de l’industrie. L’événement comprendra des intervenants stimulants et inspirants\, des discussions enrichissantes et des opportunités d’apprentissage pratique. \nL’événement comprendra également un salon des carrières et un hackathon. C’est une excellente occasion pour l’industrie de se connecter avec des étudiantes en informatique et pour les organisations d’accéder facilement aux meilleurs talents des universités et des cégeps du Québec. \nPour plus de détails cliquez ici.
URL:https://infocrep.cssdm.gouv.qc.ca/enseignants/event/journee-francophone-des-femmes-en-informatique/
CATEGORIES:Événements externes
END:VEVENT
END:VCALENDAR