BEGIN:VCALENDAR
VERSION:2.0
PRODID:-//Section du personnel - Portail du CREP - ECPv6.10.3//NONSGML v1.0//EN
CALSCALE:GREGORIAN
METHOD:PUBLISH
X-WR-CALNAME:Section du personnel - Portail du CREP
X-ORIGINAL-URL:https://infocrep.cssdm.gouv.qc.ca/enseignants
X-WR-CALDESC:Évènements pour Section du personnel - Portail du CREP
REFRESH-INTERVAL;VALUE=DURATION:PT1H
X-Robots-Tag:noindex
X-PUBLISHED-TTL:PT1H
BEGIN:VTIMEZONE
TZID:America/New_York
BEGIN:DAYLIGHT
TZOFFSETFROM:-0500
TZOFFSETTO:-0400
TZNAME:EDT
DTSTART:20230312T070000
END:DAYLIGHT
BEGIN:STANDARD
TZOFFSETFROM:-0400
TZOFFSETTO:-0500
TZNAME:EST
DTSTART:20231105T060000
END:STANDARD
BEGIN:DAYLIGHT
TZOFFSETFROM:-0500
TZOFFSETTO:-0400
TZNAME:EDT
DTSTART:20240310T070000
END:DAYLIGHT
BEGIN:STANDARD
TZOFFSETFROM:-0400
TZOFFSETTO:-0500
TZNAME:EST
DTSTART:20241103T060000
END:STANDARD
END:VTIMEZONE
BEGIN:VEVENT
DTSTART;TZID=America/New_York:20231225T080000
DTEND;TZID=America/New_York:20240105T170000
DTSTAMP:20260422T082821
CREATED:20231221T154922Z
LAST-MODIFIED:20231221T154922Z
UID:7537-1703491200-1704474000@infocrep.cssdm.gouv.qc.ca
SUMMARY:Congés des fêtes
DESCRIPTION:
URL:https://infocrep.cssdm.gouv.qc.ca/enseignants/event/conges-des-fetes/
CATEGORIES:Congé et férié
END:VEVENT
BEGIN:VEVENT
DTSTART;TZID=America/New_York:20240108T080000
DTEND;TZID=America/New_York:20240108T160000
DTSTAMP:20260422T082821
CREATED:20231221T155130Z
LAST-MODIFIED:20231221T195918Z
UID:7539-1704700800-1704729600@infocrep.cssdm.gouv.qc.ca
SUMMARY:Journée pédagogique (congé pour les élèves\, travail pour les enseignants)
DESCRIPTION:Bonjour chère équipe\, \nÉtant donné que la valse des négociations est toujours en cours\, voici les différents scénarios possibles pour votre retour des fêtes. \nLe lundi 8 janvier est une journée pédagogique : \nPour les enseignants \nSi votre syndicat en est venu à une entente et a déclaré la fin de la grève\, vous êtes attendus chez le partenaire pour effectuer du travail professionnel (5h30 de travail). Ce sera l’occasion de reprendre contact avec l’équipe sur place et de vous assurer que vous disposez de tout ce dont vous avez besoin pour le retour en classe. Il sera également possible de réaliser vos 5h30 de temps de travail professionnel au CREP\, si votre organisme est fermé le 8 janvier. \nPour les professionnels et le personnel administratif \nSi votre syndicat n’a pas encore déclaré le début de la grève illimitée\, il vous est demandé de vous présenter au CREP afin d’être disponibles pour accompagner les enseignants au besoin.\nEn souhaitant que des ententes satisfaisantes soient conclues pour toutes les parties d’ici là\, nous avons hâte de vous retrouver. \nEn vous souhaitant un joyeux temps des fêtes ! \n  \nMarylène Bernier\nDirectrice
URL:https://infocrep.cssdm.gouv.qc.ca/enseignants/event/journee-pedagogique-4/
CATEGORIES:Journée pédagogique
END:VEVENT
BEGIN:VEVENT
DTSTART;TZID=America/New_York:20240108T090000
DTEND;TZID=America/New_York:20240108T120000
DTSTAMP:20260422T082821
CREATED:20231012T205656Z
LAST-MODIFIED:20240108T202849Z
UID:7349-1704704400-1704715200@infocrep.cssdm.gouv.qc.ca
SUMMARY:Formation pratique sur la méthode du Journal créatif _ Reportée à ce vendredi 12 janvier 13h au CREP
DESCRIPTION:Venez découvrir la méthode du Journal créatif et l’appliquer dans votre classe ou dans votre quotidien personnel. Le Journal créatif est une méthode simple et efficace. La méthode est axée sur le développement d’activités du journal personnel non conventionnel. Il s’agit d’une approche dynamique visant à favoriser l’expression et l’exploration de soi ainsi que la résolution de problèmes et le développement de la créativité. \nCette formation offerte par Amalia Giron Sandoval\, enseignante en IS au CREP\, est proposée sur trois demi-journées à raison de trois heures par rencontre pour un total de 9 heures. \nVoici les dates : le lundi 8 janvier de 9h à 12h\, le vendredi 12 janvier de 13h à 15h et le vendredi 9 février de 13h à 15h (cette dernière date reste à confirmer). \nVeuillez inscrire votre nom dans ce Doodle pour signifier votre présence. Notez qu’un maximum de 10 participants pourront participer: \nhttps://doodle.com/meeting/participate/id/egkpGQke \n  \nRémunération lors des ateliers et formations \nLes enseignants à taux horaire sont invités à faire une demande au Comité local de perfectionnement (CLP) pour les formations et ateliers offerts au CREP à l’adresse suivante houle.v@csdm.qc.ca \nVeuillez remplir ce fichier et le faire suivre à la même adresse: \n\nPerfectionnement du personnel enseignant – demande d’aide financière (D010)\n\nNotez qu’il n’est pas nécessaire de faire une telle demande pour les rencontres des services d’enseignement. Tous les enseignants seront rémunérés lors des rencontres des services d’enseignement.
URL:https://infocrep.cssdm.gouv.qc.ca/enseignants/event/formation-pratique-sur-la-methode-du-journal-creatif/
CATEGORIES:Rencontres et formations
ATTACH;FMTTYPE=image/png:https://infocrep.cssdm.gouv.qc.ca/enseignants/wp-content/uploads/sites/6/2023/10/Journal-creatif.png
END:VEVENT
BEGIN:VEVENT
DTSTART;TZID=America/New_York:20240112T084500
DTEND;TZID=America/New_York:20240112T114500
DTSTAMP:20260422T082821
CREATED:20231221T155314Z
LAST-MODIFIED:20240110T202318Z
UID:7542-1705049100-1705059900@infocrep.cssdm.gouv.qc.ca
SUMMARY:Rencontre du service de l’Intégration socioprofessionnelle (ISP)
DESCRIPTION:Ordre du Jour : \n\nPoints stratégiques : \n\nNouvelle enseignante ISP: Ana Mijango\nNouvelle CP : Lydia Desrosiers\nEnseignante soutien EBP: Amélie Campagna\nÉcomusée du Fier Monde\nFormations offertes au CREP (voir le calendrier sur le portail)\n\n\nProjet éducatif\n\nOù en sommes-nous?\n\n\nPartages et réflexions de groupe\n\n* Début de la rencontre à 8 h 45 
URL:https://infocrep.cssdm.gouv.qc.ca/enseignants/event/rencontre-du-service-de-lintegration-socioprofessionnelle-isp-10/
CATEGORIES:Service de l'Intégration socioprofessionnelle (ISP)
END:VEVENT
BEGIN:VEVENT
DTSTART;TZID=America/New_York:20240112T130000
DTEND;TZID=America/New_York:20240112T160000
DTSTAMP:20260422T082821
CREATED:20240108T185130Z
LAST-MODIFIED:20240110T164732Z
UID:7642-1705064400-1705075200@infocrep.cssdm.gouv.qc.ca
SUMMARY:Formation pratique sur la méthode du Journal créatif
DESCRIPTION:FORMATION COMPLÈTE\, NOMBRE DE PARTICIPANTS ATTEINT \nVenez découvrir la méthode du Journal créatif et l’appliquer dans votre classe ou dans votre quotidien personnel. Le Journal créatif est une méthode simple et efficace. La méthode est axée sur le développement d’activités du journal personnel non conventionnel. Il s’agit d’une approche dynamique visant à favoriser l’expression et l’exploration de soi ainsi que la résolution de problèmes et le développement de la créativité. \nCette formation offerte par Amalia Giron Sandoval\, enseignante en IS au CREP\, est proposée sur trois demi-journées à raison de trois heures par rencontre pour un total de 9 heures. \nVoici les dates : le vendredi 12 janvier de 13h à 16h\, le vendredi 12 janvier de 13h à 15h et le vendredi 9 février de 13h à 15h (cette dernière date reste à confirmer). \nVeuillez inscrire votre nom dans ce Doodle pour signifier votre présence. Notez qu’un maximum de 10 participants pourront participer: \nFORMATION COMPLÈTE\, NOMBRE DE PARTICIPANTS ATTEINT \nhttps://doodle.com/meeting/participate/id/egkpGQke \n  \nRémunération lors des ateliers et formations \nLes enseignants à taux horaire sont invités à faire une demande au Comité local de perfectionnement (CLP) pour les formations et ateliers offerts au CREP à l’adresse suivante houle.v@csdm.qc.ca \nVeuillez remplir ce fichier et le faire suivre à la même adresse: \n\nPerfectionnement du personnel enseignant – demande d’aide financière (D010)\n\nNotez qu’il n’est pas nécessaire de faire une telle demande pour les rencontres des services d’enseignement. Tous les enseignants seront rémunérés lors des rencontres des services d’enseignement.
URL:https://infocrep.cssdm.gouv.qc.ca/enseignants/event/formation-pratique-sur-la-methode-du-journal-creatif-2/
CATEGORIES:Rencontres et formations
END:VEVENT
BEGIN:VEVENT
DTSTART;TZID=America/New_York:20240115T084500
DTEND;TZID=America/New_York:20240115T114500
DTSTAMP:20260422T082821
CREATED:20231221T155415Z
LAST-MODIFIED:20240111T161924Z
UID:7544-1705308300-1705319100@infocrep.cssdm.gouv.qc.ca
SUMMARY:Rencontre de suivis de l’EDM
DESCRIPTION:Lundi le 15 janvier 2025 \nDe 10h35 à 11h50\, Salle 4 \n  \nOrdre du jour \n\n\n\n\n\nPrésentation de l’ordre du jour\n\n\n\n\n\n\nVolontaire pour la rencontre en lien avec les 2 tâches\n\n\n\n\n\n\nPériode de dîner\n\n\n\n\n\n\nNouvelle conseillère pédagogique (CP) ISP\n\n\n\n\n\n\nEnseignante soutien EBP\n\n\n\n\n\n\nÉcomusée du Fier Monde\n\n\n\n\n\n\nCulture à l’école\n\n\n\n\n\n\nSéances TENS
URL:https://infocrep.cssdm.gouv.qc.ca/enseignants/event/rencontre-de-suivis-de-ledm-2/
CATEGORIES:Suivis de l’EDM
END:VEVENT
BEGIN:VEVENT
DTSTART;TZID=America/New_York:20240119T084500
DTEND;TZID=America/New_York:20240119T114500
DTSTAMP:20260422T082821
CREATED:20231221T155528Z
LAST-MODIFIED:20240117T135011Z
UID:7546-1705653900-1705664700@infocrep.cssdm.gouv.qc.ca
SUMMARY:Rencontre du service de l’Intégration sociale (IS)
DESCRIPTION:Ordre du jour du 19 janvier 2024  \nPoints stratégiques : \nMouvement de personnel \n\nNouvelle enseignante ISP à Insertech: Ana Mijango\nRetour de Florence Germond à Radisson\nNouvelle CP ISP : Lydia Desrosiers\nEnseignante soutien numérique: Amélie Campagna\n\nÉcomusées du Fier Monde \nFormations offertes au CREP (voir le calendrier sur le portail) \nProjet éducatif : Où en sommes-nous? \nTravaux en lien avec le programme de Participation sociale \n 
URL:https://infocrep.cssdm.gouv.qc.ca/enseignants/event/rencontre-du-service-de-lintegration-sociale-is-4/
CATEGORIES:Service de l'Intégration sociale
END:VEVENT
BEGIN:VEVENT
DTSTART;TZID=America/New_York:20240119T130000
DTEND;TZID=America/New_York:20240119T160000
DTSTAMP:20260422T082821
CREATED:20231221T162011Z
LAST-MODIFIED:20240119T144525Z
UID:7548-1705669200-1705680000@infocrep.cssdm.gouv.qc.ca
SUMMARY:Report de la formation au 15 mars: Créer une réalisation CANVA et l’intégrer dans Moodle
DESCRIPTION:Report de la formation au 15 mars.\n  \nVous désirez améliorer vos présentations PowerPoint\, vous désirez faire un journal étudiant\, vous désirez faire le montage d’une capsule vidéo ? C’est possiblement CANVA qu’il vous faut ! \nCanva est un outil de design et de publication en ligne dont la mission est de permettre à chacun dans le monde de concevoir ce qu’il souhaite et de publier où il le souhaite. Par conséquent\, lors de cet atelier\, vous serez en mesure: \n\nd’apprendre comment créer divers types de réalisation;\nde classer vos réalisations;\nde partager une réalisation dans l’intention de collaborer avec un élève ou avec un collègue de travail;\nd’ajouter votre réalisation dans votre cours Moodle.\n\nVeuillez inscrire votre nom sur cette plateforme afin de nous signifier votre présence: \n\nxxxx\n\n  \nRémunération lors des ateliers et formations \nLes enseignants à taux horaire sont invités à faire une demande au Comité local de perfectionnement (CLP) pour les formations et ateliers offerts au CREP à l’adresse suivante houle.v@csdm.qc.ca. \nVeuillez remplir ce fichier et le faire suivre à la même adresse: \n\nPerfectionnement du personnel enseignant – demande d’aide financière (D010)\n\nNotez qu’il n’est pas nécessaire de faire une telle demande pour les rencontres des services d’enseignement. Tous les enseignants seront rémunérés lors des rencontres des services d’enseignement.
URL:https://infocrep.cssdm.gouv.qc.ca/enseignants/event/formation-creer-une-realisation-canva-et-lintegrer-dans-moodle/
CATEGORIES:Rencontres et formations
END:VEVENT
BEGIN:VEVENT
DTSTART;TZID=America/New_York:20240126T130000
DTEND;TZID=America/New_York:20240126T141500
DTSTAMP:20260422T082821
CREATED:20231221T162146Z
LAST-MODIFIED:20231221T162146Z
UID:7553-1706274000-1706278500@infocrep.cssdm.gouv.qc.ca
SUMMARY:CPEPE
DESCRIPTION:
URL:https://infocrep.cssdm.gouv.qc.ca/enseignants/event/cpepe-7/
CATEGORIES:Rencontres et formations
END:VEVENT
BEGIN:VEVENT
DTSTART;TZID=America/New_York:20240126T133000
DTEND;TZID=America/New_York:20240126T160000
DTSTAMP:20260422T082821
CREATED:20231221T162409Z
LAST-MODIFIED:20240124T194338Z
UID:7555-1706275800-1706284800@infocrep.cssdm.gouv.qc.ca
SUMMARY:Rencontre du service de la Francisation (FLS)
DESCRIPTION:Rencontre du service de la Francisation (FLS)\nVendredi 26 janvier à 13h 30\n  \nOrdre du jour: \n\nPrésentation de Lydia\nRetour de la grève\nÉcomusée du Fier Monde\nListe sélective\nNouvelle enseignante ressource\nInscriptions MIFI (portail)\nFormations disponibles\nInfo projet éducatif\n\nPause \n14h30 à 14h40 \n  \n\nProchaines rencontres de service\nBesoin de moments d’échange ?\nQuestions\, thèmes\, travail en équipe collaborative ?
URL:https://infocrep.cssdm.gouv.qc.ca/enseignants/event/rencontre-du-service-de-la-francisation-fls-2/
CATEGORIES:Service Francisation
END:VEVENT
END:VCALENDAR