BEGIN:VCALENDAR
VERSION:2.0
PRODID:-//Section du personnel - Portail du CREP - ECPv6.10.3//NONSGML v1.0//EN
CALSCALE:GREGORIAN
METHOD:PUBLISH
X-WR-CALNAME:Section du personnel - Portail du CREP
X-ORIGINAL-URL:https://infocrep.cssdm.gouv.qc.ca/enseignants
X-WR-CALDESC:Évènements pour Section du personnel - Portail du CREP
REFRESH-INTERVAL;VALUE=DURATION:PT1H
X-Robots-Tag:noindex
X-PUBLISHED-TTL:PT1H
BEGIN:VTIMEZONE
TZID:America/New_York
BEGIN:DAYLIGHT
TZOFFSETFROM:-0500
TZOFFSETTO:-0400
TZNAME:EDT
DTSTART:20230312T070000
END:DAYLIGHT
BEGIN:STANDARD
TZOFFSETFROM:-0400
TZOFFSETTO:-0500
TZNAME:EST
DTSTART:20231105T060000
END:STANDARD
BEGIN:DAYLIGHT
TZOFFSETFROM:-0500
TZOFFSETTO:-0400
TZNAME:EDT
DTSTART:20240310T070000
END:DAYLIGHT
BEGIN:STANDARD
TZOFFSETFROM:-0400
TZOFFSETTO:-0500
TZNAME:EST
DTSTART:20241103T060000
END:STANDARD
END:VTIMEZONE
BEGIN:VEVENT
DTSTART;TZID=America/New_York:20231201T084500
DTEND;TZID=America/New_York:20231201T114500
DTSTAMP:20260422T061052
CREATED:20230914T134321Z
LAST-MODIFIED:20230914T134321Z
UID:7198-1701420300-1701431100@infocrep.cssdm.gouv.qc.ca
SUMMARY:Rencontre de service de l'Intégration socioprofessionnelle (ISP)
DESCRIPTION:
URL:https://infocrep.cssdm.gouv.qc.ca/enseignants/event/rencontre-de-service-de-lintegration-socioprofessionnelle-isp-4/
CATEGORIES:Rencontres et formations,Service de l'Intégration socioprofessionnelle (ISP)
ATTACH;FMTTYPE=image/png:https://infocrep.cssdm.gouv.qc.ca/enseignants/wp-content/uploads/sites/6/2021/12/ISP-et-FLS.png
END:VEVENT
BEGIN:VEVENT
DTSTART;TZID=America/New_York:20231201T130000
DTEND;TZID=America/New_York:20231201T141500
DTSTAMP:20260422T061052
CREATED:20231221T154133Z
LAST-MODIFIED:20231221T154133Z
UID:7527-1701435600-1701440100@infocrep.cssdm.gouv.qc.ca
SUMMARY:CPEPE
DESCRIPTION:
URL:https://infocrep.cssdm.gouv.qc.ca/enseignants/event/cpepe-6/
CATEGORIES:Rencontres et formations
END:VEVENT
BEGIN:VEVENT
DTSTART;TZID=America/New_York:20231208T084500
DTEND;TZID=America/New_York:20231208T114500
DTSTAMP:20260422T061052
CREATED:20231221T154249Z
LAST-MODIFIED:20231221T154249Z
UID:7529-1702025100-1702035900@infocrep.cssdm.gouv.qc.ca
SUMMARY:Rencontre du service de l’Intégration sociale (IS)
DESCRIPTION:
URL:https://infocrep.cssdm.gouv.qc.ca/enseignants/event/rencontre-du-service-de-lintegration-sociale-is-3/
CATEGORIES:Service de l'Intégration sociale
END:VEVENT
BEGIN:VEVENT
DTSTART;TZID=America/New_York:20231211T084500
DTEND;TZID=America/New_York:20231211T114500
DTSTAMP:20260422T061052
CREATED:20231221T154433Z
LAST-MODIFIED:20231221T154433Z
UID:7531-1702284300-1702295100@infocrep.cssdm.gouv.qc.ca
SUMMARY:Rencontre de suivis de l’EDM
DESCRIPTION:
URL:https://infocrep.cssdm.gouv.qc.ca/enseignants/event/rencontre-de-suivis-de-ledm/
CATEGORIES:Suivis de l’EDM
END:VEVENT
BEGIN:VEVENT
DTSTART;TZID=America/New_York:20231215T084500
DTEND;TZID=America/New_York:20231215T114500
DTSTAMP:20260422T061052
CREATED:20231221T154550Z
LAST-MODIFIED:20231221T154550Z
UID:7533-1702629900-1702640700@infocrep.cssdm.gouv.qc.ca
SUMMARY:Atelier ou formation du CREP
DESCRIPTION:
URL:https://infocrep.cssdm.gouv.qc.ca/enseignants/event/atelier-ou-formation-du-crep/
CATEGORIES:Rencontres et formations
END:VEVENT
BEGIN:VEVENT
DTSTART;TZID=America/New_York:20231215T130000
DTEND;TZID=America/New_York:20231215T160000
DTSTAMP:20260422T061052
CREATED:20231221T154745Z
LAST-MODIFIED:20231221T154745Z
UID:7535-1702645200-1702656000@infocrep.cssdm.gouv.qc.ca
SUMMARY:Rencontre du service de la Francisation (FLS)
DESCRIPTION:
URL:https://infocrep.cssdm.gouv.qc.ca/enseignants/event/rencontre-du-service-de-la-francisation-fls/
CATEGORIES:Service Francisation
END:VEVENT
BEGIN:VEVENT
DTSTART;TZID=America/New_York:20231225T080000
DTEND;TZID=America/New_York:20240105T170000
DTSTAMP:20260422T061052
CREATED:20231221T154922Z
LAST-MODIFIED:20231221T154922Z
UID:7537-1703491200-1704474000@infocrep.cssdm.gouv.qc.ca
SUMMARY:Congés des fêtes
DESCRIPTION:
URL:https://infocrep.cssdm.gouv.qc.ca/enseignants/event/conges-des-fetes/
CATEGORIES:Congé et férié
END:VEVENT
END:VCALENDAR