BEGIN:VCALENDAR
VERSION:2.0
PRODID:-//Section du personnel - Portail du CREP - ECPv6.10.3//NONSGML v1.0//EN
CALSCALE:GREGORIAN
METHOD:PUBLISH
X-WR-CALNAME:Section du personnel - Portail du CREP
X-ORIGINAL-URL:https://infocrep.cssdm.gouv.qc.ca/enseignants
X-WR-CALDESC:Évènements pour Section du personnel - Portail du CREP
REFRESH-INTERVAL;VALUE=DURATION:PT1H
X-Robots-Tag:noindex
X-PUBLISHED-TTL:PT1H
BEGIN:VTIMEZONE
TZID:America/New_York
BEGIN:DAYLIGHT
TZOFFSETFROM:-0500
TZOFFSETTO:-0400
TZNAME:EDT
DTSTART:20230312T070000
END:DAYLIGHT
BEGIN:STANDARD
TZOFFSETFROM:-0400
TZOFFSETTO:-0500
TZNAME:EST
DTSTART:20231105T060000
END:STANDARD
END:VTIMEZONE
BEGIN:VEVENT
DTSTART;TZID=America/New_York:20231101T130000
DTEND;TZID=America/New_York:20231101T190000
DTSTAMP:20260420T052718
CREATED:20231025T153917Z
LAST-MODIFIED:20231025T153917Z
UID:7379-1698843600-1698865200@infocrep.cssdm.gouv.qc.ca
SUMMARY:Portes ouvertes à l’école des métiers des Faubourgs-de-Montréal
DESCRIPTION:Bonjour\, \n  \nIl nous fait plaisir de vous inviter à nos portes ouvertes 2023-2024. Cet événement est prévu le mercredi 1er novembre prochain\, de 13h à 19h à l’école des métiers des Faubourgs-de-Montréal\, située au 2000 rue Parthenais à Montréal. \n  \nPlusieurs kiosques interactifs tenus par un duo enseignant/élève seront présentés afin de vous donner une expérience directe en lien avec le métier représenté. Vous aurez l’occasion\, lors de cette journée\, de rencontrer plusieurs enseignants\, une équipe de conseillers et notre équipe d’admissions afin de répondre à toutes vos interrogations! \n  \nDans l’espoir de vous y rencontrer!
URL:https://infocrep.cssdm.gouv.qc.ca/enseignants/event/portes-ouvertes-a-lecole-des-metiers-des-faubourgs-de-montreal/
CATEGORIES:Événements externes,Grand public
ATTACH;FMTTYPE=image/png:https://infocrep.cssdm.gouv.qc.ca/enseignants/wp-content/uploads/sites/6/2023/10/portes-ouvertes.png
END:VEVENT
BEGIN:VEVENT
DTSTART;TZID=America/New_York:20231103T084500
DTEND;TZID=America/New_York:20231103T114500
DTSTAMP:20260420T052718
CREATED:20230908T205217Z
LAST-MODIFIED:20231102T194624Z
UID:7169-1699001100-1699011900@infocrep.cssdm.gouv.qc.ca
SUMMARY:Rencontre de service de l'Intégration socioprofessionnelle (ISP)
DESCRIPTION:3 novembre 2023 à 8h45 au CREP \nOrdre du jour : \n\nAccueil\nVisite de Valérie et de Jean (IS-Transition)\nPoints stratégiques\nCréation des équipes\nPlan de travail\n\n* Veuillez apporter votre portable \n 
URL:https://infocrep.cssdm.gouv.qc.ca/enseignants/event/rencontre-de-service-de-lintegration-socioprofessionnelle-isp-3/
CATEGORIES:Rencontres et formations,Service de l'Intégration socioprofessionnelle (ISP)
ATTACH;FMTTYPE=image/png:https://infocrep.cssdm.gouv.qc.ca/enseignants/wp-content/uploads/sites/6/2021/12/ISP-et-FLS.png
END:VEVENT
BEGIN:VEVENT
DTSTART;TZID=America/New_York:20231110T084500
DTEND;TZID=America/New_York:20231110T114500
DTSTAMP:20260420T052718
CREATED:20230908T205351Z
LAST-MODIFIED:20230908T205351Z
UID:7171-1699605900-1699616700@infocrep.cssdm.gouv.qc.ca
SUMMARY:Rencontre du service de l'Intégration sociale
DESCRIPTION:
URL:https://infocrep.cssdm.gouv.qc.ca/enseignants/event/rencontre-du-service-de-lintegration-sociale-5/
CATEGORIES:Rencontres et formations,Service de l'Intégration sociale
ATTACH;FMTTYPE=image/jpeg:https://infocrep.cssdm.gouv.qc.ca/enseignants/wp-content/uploads/sites/6/2021/10/image-IS.jpg
END:VEVENT
BEGIN:VEVENT
DTSTART;TZID=America/New_York:20231110T133000
DTEND;TZID=America/New_York:20231110T160000
DTSTAMP:20260420T052718
CREATED:20230925T190654Z
LAST-MODIFIED:20231027T190748Z
UID:7210-1699623000-1699632000@infocrep.cssdm.gouv.qc.ca
SUMMARY:Formation pour le service de la Francisation: l'enseignement multiniveaux
DESCRIPTION:10 novembre à 13h30\, le lieu de la rencontre paraitra ici sous peu. \nFormation sur l’enseignement multiniveaux en francisation (Partie 1) donnée par une spécialiste de cette question\, Mme Judith Girardin\, de l’Équipe-Choc pédagogique de Carrefour FGA.  \n  \nNotez que les enseignants à taux horaire et à contrat seront rémunérés pour leur présence.
URL:https://infocrep.cssdm.gouv.qc.ca/enseignants/event/formation-pour-le-service-de-la-francisation-lenseignement-multiniveaux/
CATEGORIES:Rencontres et formations
ATTACH;FMTTYPE=image/png:https://infocrep.cssdm.gouv.qc.ca/enseignants/wp-content/uploads/sites/6/2021/10/9b59d7f4-1738-2f34-2735-a518b6ec1bc6.png
END:VEVENT
BEGIN:VEVENT
DTSTART;TZID=America/New_York:20231113T084500
DTEND;TZID=America/New_York:20231113T114500
DTSTAMP:20260420T052718
CREATED:20230908T205525Z
LAST-MODIFIED:20231110T141109Z
UID:7173-1699865100-1699875900@infocrep.cssdm.gouv.qc.ca
SUMMARY:Rencontre de suivi de l'EDM
DESCRIPTION:Rencontre d’équipe mensuelle du Centre de formation de l’EDM\nLundi le 13 novembre 2023 \nDe 10h35 à 11h50\, Salle 4 \nPrésentation de l’ordre du jour \n\nVolontaire pour la rencontre en lien avec les 2 tâches\nJournée pédagogique « Institutionnelle » le 24 novembre\nFrancisation –Procédure d’inscription\nCourrier – commande Lise I 5\nLettre pour consultation avec CFS\nMarché de Noël le 7 décembre Marie-Nadège\nParty de Noël le 8 décembre Marie-Nadège
URL:https://infocrep.cssdm.gouv.qc.ca/enseignants/event/rencontre-de-suivi-de-ledm/
CATEGORIES:carcéral,Rencontres et formations
ATTACH;FMTTYPE=image/png:https://infocrep.cssdm.gouv.qc.ca/enseignants/wp-content/uploads/sites/6/2023/09/Carceral.png
END:VEVENT
BEGIN:VEVENT
DTSTART;TZID=America/New_York:20231117T090000
DTEND;TZID=America/New_York:20231117T120000
DTSTAMP:20260420T052718
CREATED:20230908T205706Z
LAST-MODIFIED:20231114T183406Z
UID:7175-1700211600-1700222400@infocrep.cssdm.gouv.qc.ca
SUMMARY:Formation : Créer des grilles d’observation avec CHATGPT
DESCRIPTION:Venez apprendre à faire des grilles d’observation sur Moodle qui vous permettront de recenser facilement les manifestations observables des acquisitions de vos apprenants. Lors de cette formation\, vous aurez l’occasion de voir concrètement des réalisations inspirantes de vos collègues qui ont entamé l’expérimentation de cet outil d’évaluation en collaboration avec les intervenants de l’organisme. \n  \nContenu de l’atelier : \nPrésentation des pratiques inspirantes\ntemps approximatif : 1 heure  \n\nPrésentation d’exemples de grilles d’observation créée avec l’aide de CHATGPT :\n\n\n\n\nGrilles pour évaluation des plateaux de travail\nGrilles pour évaluation des habiletés et des compétences\n\n\n\n\nPrésentation des fonctionnalités qui permettent de faire participer les intervenants de l’organisme à l’évaluation de la grille d’observation\n\nApprendre comment faire\ntemps approximatif : 2 heures \n\nCréer sa première grille avec l’aide et configurer ses paramètres de base\nUtiliser ChatGPT pour s’aider à définir ses critères d’évaluation\nSpécifier les niveaux d’atteinte observable pour chacun des critères\nConfigurer sa pondération\n\nUtiliser les grilles d’observation comme portfolio\n(prise de photo des réalisations) \n  \nVeuillez inscrire votre nom dans ce Doodle pour signifier votre participation: \n\nhttps://doodle.com/meeting/participate/id/ejnM3p4e\n\n  \nRémunération lors des ateliers et formations \nLes enseignants à taux horaire sont invités à faire une demande au Comité local de perfectionnement (CLP) pour les formations et ateliers offerts au CREP à l’adresse suivante houle.v@csdm.qc.ca. \nVeuillez remplir ce fichier et le faire suivre à la même adresse: \n\nPerfectionnement du personnel enseignant – demande d’aide financière (D010)\n\nNotez qu’il n’est pas nécessaire de faire une telle demande pour les rencontres des services d’enseignement. Tous les enseignants seront rémunérés lors des rencontres des services d’enseignement.
URL:https://infocrep.cssdm.gouv.qc.ca/enseignants/event/atelier-ou-formation/
LOCATION:Centre des ressources educatives et pédagogiques (CREP)\, 5100 rue Sherbroooke est\, Montréal\, Quebec\, h1v 3r9\, Canada
CATEGORIES:Rencontres et formations
ORGANIZER;CN="Tomy St-Aubin":MAILTO:staubin.t@csdm.qc.ca
END:VEVENT
BEGIN:VEVENT
DTSTART;TZID=America/New_York:20231117T130000
DTEND;TZID=America/New_York:20231117T160000
DTSTAMP:20260420T052718
CREATED:20230908T205924Z
LAST-MODIFIED:20230908T205924Z
UID:7177-1700226000-1700236800@infocrep.cssdm.gouv.qc.ca
SUMMARY:Rencontre de service en Francisation
DESCRIPTION:
URL:https://infocrep.cssdm.gouv.qc.ca/enseignants/event/rencontre-de-service-en-francisation-2/
CATEGORIES:Rencontres et formations,Service Francisation
ATTACH;FMTTYPE=image/png:https://infocrep.cssdm.gouv.qc.ca/enseignants/wp-content/uploads/sites/6/2021/10/9b59d7f4-1738-2f34-2735-a518b6ec1bc6.png
END:VEVENT
BEGIN:VEVENT
DTSTART;TZID=America/New_York:20231124T080000
DTEND;TZID=America/New_York:20231124T170000
DTSTAMP:20260420T052718
CREATED:20230908T210811Z
LAST-MODIFIED:20230908T211041Z
UID:7179-1700812800-1700845200@infocrep.cssdm.gouv.qc.ca
SUMMARY:Journée pédagogique institutionnelle (congé pour les élèves\, travail pour les enseignants)
DESCRIPTION:Les enseignants à taux horaire et à contrat sont invités et seront rémunérés pour leur participation.
URL:https://infocrep.cssdm.gouv.qc.ca/enseignants/event/journee-pedagogique-institutionnelle-conge-pour-les-eleves-travail-pour-les-enseignants/
CATEGORIES:Journée pédagogique
END:VEVENT
END:VCALENDAR