BEGIN:VCALENDAR
VERSION:2.0
PRODID:-//Section du personnel - Portail du CREP - ECPv6.10.3//NONSGML v1.0//EN
CALSCALE:GREGORIAN
METHOD:PUBLISH
X-WR-CALNAME:Section du personnel - Portail du CREP
X-ORIGINAL-URL:https://infocrep.cssdm.gouv.qc.ca/enseignants
X-WR-CALDESC:Évènements pour Section du personnel - Portail du CREP
REFRESH-INTERVAL;VALUE=DURATION:PT1H
X-Robots-Tag:noindex
X-PUBLISHED-TTL:PT1H
BEGIN:VTIMEZONE
TZID:America/Toronto
BEGIN:DAYLIGHT
TZOFFSETFROM:-0500
TZOFFSETTO:-0400
TZNAME:EDT
DTSTART:20230312T070000
END:DAYLIGHT
BEGIN:STANDARD
TZOFFSETFROM:-0400
TZOFFSETTO:-0500
TZNAME:EST
DTSTART:20231105T060000
END:STANDARD
END:VTIMEZONE
BEGIN:VTIMEZONE
TZID:America/New_York
BEGIN:DAYLIGHT
TZOFFSETFROM:-0500
TZOFFSETTO:-0400
TZNAME:EDT
DTSTART:20230312T070000
END:DAYLIGHT
BEGIN:STANDARD
TZOFFSETFROM:-0400
TZOFFSETTO:-0500
TZNAME:EST
DTSTART:20231105T060000
END:STANDARD
END:VTIMEZONE
BEGIN:VEVENT
DTSTART;TZID=America/Toronto:20230901T080000
DTEND;TZID=America/Toronto:20230901T170000
DTSTAMP:20260420T155856
CREATED:20230821T200258Z
LAST-MODIFIED:20230821T200348Z
UID:6999-1693555200-1693587600@infocrep.cssdm.gouv.qc.ca
SUMMARY:Rentrée scolaire des enseignants
DESCRIPTION:
URL:https://infocrep.cssdm.gouv.qc.ca/enseignants/event/rentree-scolaire-des-enseignants/
CATEGORIES:Pour tous
END:VEVENT
BEGIN:VEVENT
DTSTART;TZID=America/New_York:20230911T084500
DTEND;TZID=America/New_York:20230911T114500
DTSTAMP:20260420T155856
CREATED:20230908T192657Z
LAST-MODIFIED:20230908T192657Z
UID:7137-1694421900-1694432700@infocrep.cssdm.gouv.qc.ca
SUMMARY:Rencontre de suivi à l'EDM
DESCRIPTION:Première rencontre d’équipe mensuelle du Centre de formation de l’EDM\nLundi le 11 septembre 2023\nDe 10h35 à 11h50\, Salle 3\n  \nOrdre du jour \n\n\n\n  \nSujets \n \nC : Consultation \nD : Discussion \nI  :  Information\nMinutes \nprévues\nSuivi et commentaire\n\n\nToute l’équipe   CSSDM  /CDF\n \n \n \n \n\n\nPrésentation de l’ordre du jour\nMarie-Nadège\nI\n5\n \n\n\nVolontaire pour la rencontre en lien avec les 2 tâches\nMarie-Nadège\nC\n1\n \n\n\nPrésentation des membres de l’équipe\nTour de table\nI\n5\n \n\n\nPrésentation du partenariat CREP/EDM\nMarie-Nadège\nI\n5\n \n\n\nAbsences\nMarie-Nadège\nI\n5\n \n\n\nTâches et horaires à signer\nMarie-Nadège\nI\n5\n \n\n\nJournées pédagogiques – Formation\nMarie-Nadège\nI\n5\n \n\n\nMandat\, horaire\, Formulaire demande de rencontre\, CFS\nJessica\nI\n10\n \n\n\nFormation sécuritaire\nChantal\nI\n5\n \n\n\nÉtat des inscriptions massives\nLise et Chantal\nI\n5\n \n\n\nOrganisation scolaire : Présentation du dossier administratif\nLise\nI\n10\n \n\n\nResponsabilités tâches : Lise /Julie Béland\nLise\nI\n5\n 
URL:https://infocrep.cssdm.gouv.qc.ca/enseignants/event/rencontre-de-suivi-a-ledm/
CATEGORIES:carcéral,Rencontres et formations
ATTACH;FMTTYPE=image/png:https://infocrep.cssdm.gouv.qc.ca/enseignants/wp-content/uploads/sites/6/2023/09/Carceral.png
END:VEVENT
BEGIN:VEVENT
DTSTART;TZID=America/New_York:20230915T130000
DTEND;TZID=America/New_York:20230915T160000
DTSTAMP:20260420T155856
CREATED:20230908T193221Z
LAST-MODIFIED:20230913T210156Z
UID:7140-1694782800-1694793600@infocrep.cssdm.gouv.qc.ca
SUMMARY:Rencontre de service de la Francisation
DESCRIPTION:15 septembre 2023 à 13h au CREP à la salle Jean-Baptiste Meilleur\nOrdre du jour \n\nInscriptions sur la plateforme Francisation Québec\n\nNouvelles informations\nProfils de formation\nFiches d’inscription\nDocuments disponibles dans le cours Moodle Francisation Québec\nOutils diagnostiques\n\n\nProjet éducatif\nMatériel Par Ici\nRosetta Stone
URL:https://infocrep.cssdm.gouv.qc.ca/enseignants/event/rencontre-de-service-francisation/
CATEGORIES:Rencontres et formations,Service Francisation
ATTACH;FMTTYPE=image/png:https://infocrep.cssdm.gouv.qc.ca/enseignants/wp-content/uploads/sites/6/2021/10/9b59d7f4-1738-2f34-2735-a518b6ec1bc6.png
END:VEVENT
BEGIN:VEVENT
DTSTART;TZID=America/New_York:20230922T084500
DTEND;TZID=America/New_York:20230922T114500
DTSTAMP:20260420T155856
CREATED:20230908T193937Z
LAST-MODIFIED:20230922T145353Z
UID:7142-1695372300-1695383100@infocrep.cssdm.gouv.qc.ca
SUMMARY:Rencontre de service de l'Intégration socioprofessionnelle (ISP)
DESCRIPTION:22 septembre 2023  à 8h45 au CREP \nOrdre du Jour :  \n\nAccueil et présentation de l’ordre du jour\nPoints stratégiques\nProjet éducatif – Présentation des données en ISP\nRetour sur le Bilan 2023\nFonctionnement et organisation des rencontres 2023-2024\n\n 
URL:https://infocrep.cssdm.gouv.qc.ca/enseignants/event/rencontre-de-service-de-lintegration-socioprofessionnelle-isp/
CATEGORIES:Rencontres et formations,Service de l'Intégration socioprofessionnelle (ISP)
ATTACH;FMTTYPE=image/png:https://infocrep.cssdm.gouv.qc.ca/enseignants/wp-content/uploads/sites/6/2023/01/Service-ISP.png
END:VEVENT
BEGIN:VEVENT
DTSTART;TZID=America/New_York:20230922T130000
DTEND;TZID=America/New_York:20230922T141500
DTSTAMP:20260420T155856
CREATED:20230908T194057Z
LAST-MODIFIED:20230908T194348Z
UID:7144-1695387600-1695392100@infocrep.cssdm.gouv.qc.ca
SUMMARY:CPEPE
DESCRIPTION:
URL:https://infocrep.cssdm.gouv.qc.ca/enseignants/event/cpepe-4/
CATEGORIES:Rencontres et formations
END:VEVENT
BEGIN:VEVENT
DTSTART;TZID=America/New_York:20230929T084500
DTEND;TZID=America/New_York:20230929T114500
DTSTAMP:20260420T155856
CREATED:20230908T200433Z
LAST-MODIFIED:20230920T143334Z
UID:7151-1695977100-1695987900@infocrep.cssdm.gouv.qc.ca
SUMMARY:Rencontre du service de l'Intégration sociale
DESCRIPTION:Présentation du programme de participation sociale\n\n29 septembre au CREP de 8h45 à 12h\n\n\nVoici une invitation pour la prochaine rencontre de service IS. La rencontre portera exclusivement sur le programme de participation sociale. La rencontre sera animée par des acteurs de a TREAQ qui ont participé à son élaboration. \nC’est une première rencontre sur le sujet\, nous aurons l’occasion de revenir tous ensemble par la suite bien entendu pour la suite des choses. \nLa rencontre aura lieu dans les locaux du CREP\, au 9 étage du 5100 Sherbrooke est. \nLe programme de la matinée : \n08h30 – Accueil\, muffins et café \n08h45 – Présentation de la TREAQ du programme de participation sociale \n10h30 – Pause \n10h30 – Suite de la présentation \n12h00 – Fin de la rencontre \n 
URL:https://infocrep.cssdm.gouv.qc.ca/enseignants/event/rencontre-du-service-de-lintegration-sociale-3/
CATEGORIES:Rencontres et formations,Service de l'Intégration sociale
ATTACH;FMTTYPE=image/jpeg:https://infocrep.cssdm.gouv.qc.ca/enseignants/wp-content/uploads/sites/6/2021/11/image-IS.jpg
END:VEVENT
END:VCALENDAR