BEGIN:VCALENDAR
VERSION:2.0
PRODID:-//Section du personnel - Portail du CREP - ECPv6.10.3//NONSGML v1.0//EN
CALSCALE:GREGORIAN
METHOD:PUBLISH
X-WR-CALNAME:Section du personnel - Portail du CREP
X-ORIGINAL-URL:https://infocrep.cssdm.gouv.qc.ca/enseignants
X-WR-CALDESC:Évènements pour Section du personnel - Portail du CREP
REFRESH-INTERVAL;VALUE=DURATION:PT1H
X-Robots-Tag:noindex
X-PUBLISHED-TTL:PT1H
BEGIN:VTIMEZONE
TZID:America/New_York
BEGIN:DAYLIGHT
TZOFFSETFROM:-0500
TZOFFSETTO:-0400
TZNAME:EDT
DTSTART:20230312T070000
END:DAYLIGHT
BEGIN:STANDARD
TZOFFSETFROM:-0400
TZOFFSETTO:-0500
TZNAME:EST
DTSTART:20231105T060000
END:STANDARD
END:VTIMEZONE
BEGIN:VEVENT
DTSTART;TZID=America/New_York:20230501T103000
DTEND;TZID=America/New_York:20230501T115000
DTSTAMP:20260421T172709
CREATED:20230419T190020Z
LAST-MODIFIED:20230427T143540Z
UID:6645-1682937000-1682941800@infocrep.cssdm.gouv.qc.ca
SUMMARY:Rencontre d'équipe du milieu carcéral
DESCRIPTION:Lundi le 1er mai 2023 de 10h35 à 11h50\, Salle 3\nOrdre du jour \n\nSujets C : Consultation D : Discussion I : Information Minutes prévues Suivi et commentaire\nToute l’équipe CSSDM /CDF\nVolontaire pour la rencontre en lien avec les 2 tâches Marie-Nadège C\nPrésentation de l’ordre du jour Marie-Nadège\nJournée pédagogique Marie-Nadège\nActivités fin d’année Marie-Nadège et Chantale C-D\nMéritas Fin d’année Chantale C-D\nRappels organisationnels Chantale\nProcédure EVR Lise I\nAssemblée de placement (Session été) Marie-Nadège\n\n  \n 
URL:https://infocrep.cssdm.gouv.qc.ca/enseignants/event/rencontre-dequipe-du-milieu-carceral-9/
CATEGORIES:Rencontres et formations
ATTACH;FMTTYPE=image/png:https://infocrep.cssdm.gouv.qc.ca/enseignants/wp-content/uploads/sites/6/2023/02/Carceral_equipe.png
END:VEVENT
BEGIN:VEVENT
DTSTART;TZID=America/New_York:20230504T080000
DTEND;TZID=America/New_York:20230505T170000
DTSTAMP:20260421T172709
CREATED:20220929T201714Z
LAST-MODIFIED:20220929T201714Z
UID:5011-1683187200-1683306000@infocrep.cssdm.gouv.qc.ca
SUMMARY:Sommet du numérique en éducation
DESCRIPTION:Invitation au 11e Sommet du numérique en éducation\nTHÉORIE ET PRATIQUE : POUR UN DUO GAGNANT!\nLe Sommet du numérique en éducation se tiendra à l’Hôtel Bonaventure de Montréal les 4 et 5 mai 2023. \nÀ l’instar des éditions précédentes\, il a pour objectif de réunir des personnes passionnées et prêtes à partager leur savoir\, leur expertise et leurs expériences\, qu’ils soient pratiques ou scientifiques. \nD’ailleurs\, cette 11e édition mettra l’accent sur les liens riches et multiples entre les milieux de pratique et ceux de la recherche\, et ce\, dans le but commun de réussir la mise en œuvre du Plan d’action du numérique en éducation et en enseignement supérieur. \nLe Sommet s’adresse donc aux enseignants.es\, aux conseillers.ères pédagogiques\, aux directions d’établissement et à tous autres acteurs scolaires\, mais également aux milieux de la recherche intéressés aux enjeux du numérique en éducation. \nIl s’agit d’une occasion de développement professionnel unique\, durant laquelle les participants peuvent s’informer et échanger avec l’ensemble des communautés engagées dans la valorisation du numérique en éducation. \nNous avons bien hâte de vous y accueillir. \n  \nCliquez ici pour vous rendre sur le site du Sommet.
URL:https://infocrep.cssdm.gouv.qc.ca/enseignants/event/sommet-du-numerique-en-education/
CATEGORIES:Événements externes,Grand public
ATTACH;FMTTYPE=image/png:https://infocrep.cssdm.gouv.qc.ca/enseignants/wp-content/uploads/sites/6/2022/09/Sommet-numerique.png
END:VEVENT
BEGIN:VEVENT
DTSTART;TZID=America/New_York:20230505T090000
DTEND;TZID=America/New_York:20230505T120000
DTSTAMP:20260421T172709
CREATED:20230419T165703Z
LAST-MODIFIED:20230501T185813Z
UID:6622-1683277200-1683288000@infocrep.cssdm.gouv.qc.ca
SUMMARY:Rencontre du service de l’Intégration sociale (IS)
DESCRIPTION:Rencontre du service d’enseignement de l’IS \nVendredi 5 mai au CREP \nOrdre du jour \n8h30 à 9h            Accueil \n9h à 9h30            Points d’information stratégiques – Sébastien \n9h30 à 10h30      État d’avancée des travaux du PÉ – Maude et Valérie \n10h30 à 10h45    Pause \n10h 45- 11h30     Codéveloppement leadership collaboratif – Maude\, Patrick et Nicolas
URL:https://infocrep.cssdm.gouv.qc.ca/enseignants/event/rencontre-du-service-de-lintegration-sociale-is/
CATEGORIES:Rencontres et formations
ATTACH;FMTTYPE=image/jpeg:https://infocrep.cssdm.gouv.qc.ca/enseignants/wp-content/uploads/sites/6/2023/04/image-IS.jpg
END:VEVENT
BEGIN:VEVENT
DTSTART;TZID=America/New_York:20230512T090000
DTEND;TZID=America/New_York:20230512T120000
DTSTAMP:20260421T172709
CREATED:20230419T171123Z
LAST-MODIFIED:20230427T183715Z
UID:6629-1683882000-1683892800@infocrep.cssdm.gouv.qc.ca
SUMMARY:Explorer les tests de connaissance de soi
DESCRIPTION:Cet atelier s’adresse aux enseignants qui souhaiteraient explorer et mieux comprendre certains tests de connaissance de soi disponibles en ligne. Jessica\, la conseillère en formation scolaire et Tomy\, le conseiller pédagogique vous accompagneront dans leur mode d’utilisation et vous suggèreront des manières optimales de s’en servir en vue de mieux soutenir les élèves. Ce sera également l’occasion pour vous de partager vos expériences avec ces outils et de mieux comprendre leur contexte d’application. \nVeuillez inscrire votre nom dans ce Doodle pour signifier votre participation: \nhttps://doodle.com/meeting/participate/id/dBPOzoXa \n  \nLes enseignants à taux horaire sont invités et seront rémunérés pour leur participation. \n 
URL:https://infocrep.cssdm.gouv.qc.ca/enseignants/event/explorer-les-tests-de-connaissance-de-soi/
CATEGORIES:Rencontres et formations
ATTACH;FMTTYPE=image/png:https://infocrep.cssdm.gouv.qc.ca/enseignants/wp-content/uploads/sites/6/2021/12/CAP-PE-1.png
END:VEVENT
BEGIN:VEVENT
DTSTART;TZID=America/New_York:20230512T133000
DTEND;TZID=America/New_York:20230512T153000
DTSTAMP:20260421T172709
CREATED:20230419T172008Z
LAST-MODIFIED:20230512T152354Z
UID:6633-1683898200-1683905400@infocrep.cssdm.gouv.qc.ca
SUMMARY:Pédag-café avec Maude - Rencontre annulée
DESCRIPTION:Rencontre annulée \nDe la flexibilité à l’accessibilité: Moment d’échange sur ce qu’est la conception universelle de l’apprentissage en comparant ce concept à d’autres options telles que la flexibilité pédagogique\, les mesures adaptatives ou la réponse à l’intervention (RAI). \nVeuillez inscrire votre nom dans ce Doodle pour signifier votre participation: \n  \n  \nLes enseignants à taux horaire sont invités et seront rémunérés pour leur participation.
URL:https://infocrep.cssdm.gouv.qc.ca/enseignants/event/pedag-cafe-avec-maude-3/
CATEGORIES:Rencontres et formations
ATTACH;FMTTYPE=image/png:https://infocrep.cssdm.gouv.qc.ca/enseignants/wp-content/uploads/sites/6/2022/10/Formation.png
END:VEVENT
BEGIN:VEVENT
DTSTART;TZID=America/New_York:20230518T150500
DTEND;TZID=America/New_York:20230518T160500
DTSTAMP:20260421T172709
CREATED:20221007T194829Z
LAST-MODIFIED:20230511T171118Z
UID:5196-1684422300-1684425900@infocrep.cssdm.gouv.qc.ca
SUMMARY:Rencontre du service de la Francisation - Reportée au 26 mai à13h au CREP
DESCRIPTION:Rencontre du service de la Francisation\n26 mai 2023\, 13h30 en présence au CREP\n  \nBonjour\, cette rencontre de service sera courte afin de permettre plus de temps de collaboration et d’échanges riches entre vous. Deux thèmes sont proposés pour l’instant. \nEn présence au CREP\, de 13h30 à 15h30 \nOrdre du jour: \n\nRencontre de service\n\nInformations stratégiques\n\n\nRencontre de collaboration\n\nÀ préciser : Souhaits et objectifs en francisation pour 23-24\nÀ préciser : Matériel didactique (à préciser)
URL:https://infocrep.cssdm.gouv.qc.ca/enseignants/event/rencontre-du-service-de-la-francisation-5/
CATEGORIES:Rencontres et formations
ATTACH;FMTTYPE=image/png:https://infocrep.cssdm.gouv.qc.ca/enseignants/wp-content/uploads/sites/6/2021/10/9b59d7f4-1738-2f34-2735-a518b6ec1bc6.png
END:VEVENT
BEGIN:VEVENT
DTSTART;TZID=America/New_York:20230519T090000
DTEND;TZID=America/New_York:20230519T120000
DTSTAMP:20260421T172709
CREATED:20230419T172410Z
LAST-MODIFIED:20230518T141522Z
UID:6635-1684486800-1684497600@infocrep.cssdm.gouv.qc.ca
SUMMARY:Rencontre du service de l’Intégration socioprofessionnelle (ISP)
DESCRIPTION:Rencontre du service de l’Intégration socioprofessionnelle (ISP) au CREP \nDe 9h à 12h \nOrdre du jour : \n\nAccueil et adoption de l’ordre du jour\nLes points stratégiques du mois\nPrésentation théorique des équipes collaboratives\n(présentée par Maude Richer Pageon\, Marie-Rolande Cyr\, Jonathan Fecteau et Patrick Vincent)\nTravail Collaboratif 
URL:https://infocrep.cssdm.gouv.qc.ca/enseignants/event/rencontre-du-service-de-lintegration-socioprofessionnelle-isp-9/
CATEGORIES:Rencontres et formations
ATTACH;FMTTYPE=image/png:https://infocrep.cssdm.gouv.qc.ca/enseignants/wp-content/uploads/sites/6/2023/04/Service-ISP.png
END:VEVENT
BEGIN:VEVENT
DTSTART;TZID=America/New_York:20230519T093000
DTEND;TZID=America/New_York:20230519T113000
DTSTAMP:20260421T172709
CREATED:20230510T203805Z
LAST-MODIFIED:20230510T203805Z
UID:6727-1684488600-1684495800@infocrep.cssdm.gouv.qc.ca
SUMMARY:Atelier 2 sur les mesures adaptatives avec Stéphanie Poissant - Pour les enseignants IS-Retours aux études
DESCRIPTION:Nous vous convions au volet 2 de l’atelier sur les mesures adaptatives avec Stéphanie Poissant\, psychoéducatrice au CSSDM.\nCet atelier permettra de faire un petit retour sur l’utilisation de l’outil de la CMO\, sur la mise en place de stratégies d’intervention et de soutien universel et également sur notre procédure à l’interne pour la mise en place de mesures d’adaptation plus spécifiques à l’évaluation. Nous vous attendons le 19 mai de 9h30 à 11h30 dans la salle Sud-Ouest. \nPour toutes questions\, n’hésitez pas à contacter Maude\, Tanya ou Sébastien.
URL:https://infocrep.cssdm.gouv.qc.ca/enseignants/event/atelier-2-sur-les-mesures-adaptatives-avec-stephanie-poissant-pour-les-enseignants-is-retours-aux-etudes/
CATEGORIES:Rencontres et formations
ATTACH;FMTTYPE=image/jpeg:https://infocrep.cssdm.gouv.qc.ca/enseignants/wp-content/uploads/sites/6/2023/04/linkedin-sales-solutions-NpyF7rjqmq4-unsplash-1-scaled.jpg
END:VEVENT
BEGIN:VEVENT
DTSTART;TZID=America/New_York:20230521T080000
DTEND;TZID=America/New_York:20230521T170000
DTSTAMP:20260421T172709
CREATED:20221006T160400Z
LAST-MODIFIED:20221006T160400Z
UID:5166-1684656000-1684688400@infocrep.cssdm.gouv.qc.ca
SUMMARY:Journée de la diversité
DESCRIPTION:
URL:https://infocrep.cssdm.gouv.qc.ca/enseignants/event/journee-de-la-diversite/
END:VEVENT
BEGIN:VEVENT
DTSTART;TZID=America/New_York:20230524T080000
DTEND;TZID=America/New_York:20230524T170000
DTSTAMP:20260421T172709
CREATED:20221006T160450Z
LAST-MODIFIED:20221006T160450Z
UID:5168-1684915200-1684947600@infocrep.cssdm.gouv.qc.ca
SUMMARY:Gala des EXTRAS
DESCRIPTION:
URL:https://infocrep.cssdm.gouv.qc.ca/enseignants/event/gala-des-extras/
END:VEVENT
BEGIN:VEVENT
DTSTART;TZID=America/New_York:20230526T090000
DTEND;TZID=America/New_York:20230526T120000
DTSTAMP:20260421T172709
CREATED:20230419T181808Z
LAST-MODIFIED:20230426T170445Z
UID:6638-1685091600-1685102400@infocrep.cssdm.gouv.qc.ca
SUMMARY:Formation Démystifier les statuts et les parcours migratoires - Offerte aux partenaires et au personnel du CREP
DESCRIPTION:Formation offerte aux partenaires et au personnel du CREP le 26 mai de 9h à 12.\n  \nCette formation sera offerte par M. Martin Savard\, chargé de projets et de partenariat communautaire\, du Centre social d’aide aux immigrants (CSAI). Cette formation est élaborée en collaboration avec la table de concertation des organismes aux services des personnes réfugiées et immigrantes. \nL’objectif de cette formation est de développer une meilleure compréhension de la diversité des parcours migratoires et des statuts d’immigration\, ainsi que des enjeux particuliers auxquels sont confrontées les personnes à statut précaire. Elle vise également à permettre de connaître quels sont les services auxquels les personnes immigrantes ont droit en fonction de leur statut migratoire\, ainsi qu’à se familiariser avec les ressources spécialisées pour les personnes réfugiées et immigrantes. \nVeuillez signifier votre participation en écrivant à crep@csdm.qc.ca ou en communiquant à l’accueil du CREP au 514 596-4567. Aux fins du bon déroulement de la formation\, nous limiterons les inscriptions à 25 personnes. Nos partenaires sont invités à inscrire un maximum de 2 membres de leur personnel (sans compter l’enseignant du CREP). \n 
URL:https://infocrep.cssdm.gouv.qc.ca/enseignants/event/formation-demystifier-les-statuts-et-les-parcours-migratoires-offerte-aux-partenaires-et-au-personnel-du-crep/
CATEGORIES:Rencontres et formations
ATTACH;FMTTYPE=image/png:https://infocrep.cssdm.gouv.qc.ca/enseignants/wp-content/uploads/sites/6/2023/04/Formation-I.png
END:VEVENT
BEGIN:VEVENT
DTSTART;TZID=America/New_York:20230526T133000
DTEND;TZID=America/New_York:20230526T153000
DTSTAMP:20260421T172709
CREATED:20230419T182511Z
LAST-MODIFIED:20230510T192115Z
UID:6641-1685107800-1685115000@infocrep.cssdm.gouv.qc.ca
SUMMARY:Café-rencontre : neurosciences et apprentissage
DESCRIPTION:Ce café-rencontre est une occasion d’échanger entre collègues. \nDans un premier temps\, nous explorerons les connaissances que nous avons sur les cognitions et le fonctionnement du cerveau en lien avec l’éducation et les apprentissages. \nNous pourrons par la suite échanger sur comment utiliser et transmettre ces connaissances aux élèves pour soutenir leur engagement dans les changements et les nouveaux apprentissages qu’ils souhaitent intégrer. \n  \nVeuillez inscrire votre nom dans ce Doodle afin de nous signifier votre participation: \nhttps://doodle.com/meeting/participate/id/b8MWP33d \n  \nLes enseignants à taux horaire sont invités et seront rémunérés pour leur présence. \n 
URL:https://infocrep.cssdm.gouv.qc.ca/enseignants/event/cafe-rencontre-neurosciences-et-apprentissage/
CATEGORIES:Rencontres et formations
ATTACH;FMTTYPE=image/png:https://infocrep.cssdm.gouv.qc.ca/enseignants/wp-content/uploads/sites/6/2022/10/Cafe-Rencontre.png
END:VEVENT
BEGIN:VEVENT
DTSTART;TZID=America/New_York:20230526T133000
DTEND;TZID=America/New_York:20230526T153000
DTSTAMP:20260421T172709
CREATED:20230511T171422Z
LAST-MODIFIED:20230511T182915Z
UID:6733-1685107800-1685115000@infocrep.cssdm.gouv.qc.ca
SUMMARY:Rencontre du service de la Francisation - En présence au CREP
DESCRIPTION:26 mai 2023\, 13h30 en présence au CREP\n  \nBonjour\, cette rencontre de service sera courte afin de permettre plus de temps de collaboration et d’échanges riches entre vous. Deux thèmes sont proposés pour l’instant. \nEn présence au CREP\, de 13h30 à 15h30 \nOrdre du jour: \n\nRencontre de service\n\nInformations stratégiques\n\n\nRencontre de collaboration\n\nÀ préciser : Souhaits et objectifs en francisation pour 23-24\nÀ préciser : Matériel didactique (à préciser)
URL:https://infocrep.cssdm.gouv.qc.ca/enseignants/event/rencontre-du-service-de-la-francisation-en-presence-au-crep/
CATEGORIES:Rencontres et formations
ATTACH;FMTTYPE=image/png:https://infocrep.cssdm.gouv.qc.ca/enseignants/wp-content/uploads/sites/6/2022/01/FLS.png
END:VEVENT
BEGIN:VEVENT
DTSTART;TZID=America/New_York:20230531T080000
DTEND;TZID=America/New_York:20230601T170000
DTSTAMP:20260421T172709
CREATED:20230517T181849Z
LAST-MODIFIED:20230517T185330Z
UID:6766-1685520000-1685638800@infocrep.cssdm.gouv.qc.ca
SUMMARY:Salon de l’immigration et de l’intégration au Québec
DESCRIPTION:La 12ème édition du Salon de l’immigration et de l’intégration au Québec aura lieu les 31 mai et 1er juin 2023\, au Palais des congrès de Montréal. \n\nInscription gratuite ICI
URL:https://infocrep.cssdm.gouv.qc.ca/enseignants/event/salon-de-limmigration-et-de-lintegration-au-quebec-2/
CATEGORIES:Événements externes,Grand public
END:VEVENT
END:VCALENDAR