BEGIN:VCALENDAR
VERSION:2.0
PRODID:-//Section du personnel - Portail du CREP - ECPv6.10.3//NONSGML v1.0//EN
CALSCALE:GREGORIAN
METHOD:PUBLISH
X-WR-CALNAME:Section du personnel - Portail du CREP
X-ORIGINAL-URL:https://infocrep.cssdm.gouv.qc.ca/enseignants
X-WR-CALDESC:Évènements pour Section du personnel - Portail du CREP
REFRESH-INTERVAL;VALUE=DURATION:PT1H
X-Robots-Tag:noindex
X-PUBLISHED-TTL:PT1H
BEGIN:VTIMEZONE
TZID:America/New_York
BEGIN:DAYLIGHT
TZOFFSETFROM:-0500
TZOFFSETTO:-0400
TZNAME:EDT
DTSTART:20230312T070000
END:DAYLIGHT
BEGIN:STANDARD
TZOFFSETFROM:-0400
TZOFFSETTO:-0500
TZNAME:EST
DTSTART:20231105T060000
END:STANDARD
END:VTIMEZONE
BEGIN:VEVENT
DTSTART;TZID=America/New_York:20230329T083000
DTEND;TZID=America/New_York:20230416T170000
DTSTAMP:20260422T144058
CREATED:20221025T184428Z
LAST-MODIFIED:20230228T164935Z
UID:5426-1680078600-1681664400@infocrep.cssdm.gouv.qc.ca
SUMMARY:Exposition de la FGA à l'Écomusée du fier monde
DESCRIPTION:L’exposition de la FGA de l’Écomusée du fier Monde est de retour du 29 mars aux 15 avril. Les élèves du CREP y tiendront une place de choix encore une fois cette année! Nos exposants sont en provenance des organismes suivants : Prise II\, Compagnons de Montréal\, CIVA\, L’Étincelle de l’amitié\, École de milieu LaSalle\, Ateliers unis\, Les Ateliers d’Antoine\, le Centre Paul-Émile-Léger\, Le fil d’Ariane et Imprime Emploi. \nLe CREP vous offre les billets! \nVous êtes invités à venir visiter l’exposition avec vos groupes d’élèves du lundi au vendredi. Pour ce faire\, vous devez réserver pour votre classe auprès de Mme Émilie Allain aux coordonnées ci-dessous. Sur place\, veuillez mentionner que vous êtes un groupe du CREP. Vous n’aurez donc pas à débourser pour votre visite.  LE CREP vous offre cette sortie par l’entremise de la mesure ministérielle Sortie scolaire culturelle. \nLa réservation avec votre classe vous donnera droit à une visite libre de l’exposition de la FGA du CSSDM ainsi qu’à une visite guidée de l’exposition permanente « Grandeurs et misères d’un quartier populaire ».  À travers l’histoire d’un vieux quartier de la métropole\, l’Écomusée du fier monde vous invite à la découverte du Montréal industriel et ouvrier\, en visitant son exposition permanente. \nOù : L’Écomusée du fier monde\, 2050\, rue Atateken (Amherst) – À 7 minutes de marche du métro Berri-UQAM ou du métro Sherbrooke.\nQuand : Du lundi au vendredi\, du 29 mars au 15 avril 2022.\nPour réserver : Émilie Allain au 514 528-8444 ou par courriel à education@ecomusee.qc.ca\nhttps://ecomusee.qc.ca \nTéléchargez les billets promotionnels ICI.
URL:https://infocrep.cssdm.gouv.qc.ca/enseignants/event/exposition-de-la-fga-a-lecomusee-du-fier-monde-2/
CATEGORIES:Événements externes
ATTACH;FMTTYPE=image/png:https://infocrep.cssdm.gouv.qc.ca/enseignants/wp-content/uploads/sites/6/2022/10/ExpoFGA.png
END:VEVENT
BEGIN:VEVENT
DTSTART;TZID=America/New_York:20230404T080000
DTEND;TZID=America/New_York:20230406T170000
DTSTAMP:20260422T144058
CREATED:20230301T184334Z
LAST-MODIFIED:20230301T184334Z
UID:6316-1680595200-1680800400@infocrep.cssdm.gouv.qc.ca
SUMMARY:Colloque de l’Association Québécoise des Utilisateurs d’Outils technologiques à des fins Pédagogiques et Sociales
DESCRIPTION:4\, 5 et 6 avril 2023 à Québec\nApprendre ensemble à l’ère du numérique! \nUn colloque axé sur la pratique et le concret présentant une multitude d’outils technopédagogiques et d’idées facilement transposables à la classe d’aujourd’hui. Un colloque qui rassemble : enseignants\, conseillers pédagogiques\, directeurs\, étudiants en enseignement\, professeurs des facultés d’éducation et autres intervenants du milieu scolaire. C’est l’occasion de vivre différents ateliers\, formations et échanges en lien avec les TIC et découvrir les nouveautés et les incontournables de l’industrie des technologies éducatives. \nCliquez sur ce lien pour accéder aux détails : https://www.aquops.qc.ca/colloque-2023/informations/
URL:https://infocrep.cssdm.gouv.qc.ca/enseignants/event/colloque-de-lassociation-quebecoise-des-utilisateurs-doutils-technologiques-a-des-fins-pedagogiques-et-sociales/
CATEGORIES:Événements externes
ATTACH;FMTTYPE=image/png:https://infocrep.cssdm.gouv.qc.ca/enseignants/wp-content/uploads/sites/6/2023/03/AQUOPS.png
END:VEVENT
BEGIN:VEVENT
DTSTART;VALUE=DATE:20230407
DTEND;VALUE=DATE:20230408
DTSTAMP:20260422T144058
CREATED:20230228T144733Z
LAST-MODIFIED:20230228T144733Z
UID:6268-1680825600-1680911999@infocrep.cssdm.gouv.qc.ca
SUMMARY:Congé et jour férié
DESCRIPTION:
URL:https://infocrep.cssdm.gouv.qc.ca/enseignants/event/conge-et-jour-ferie-2/
END:VEVENT
BEGIN:VEVENT
DTSTART;VALUE=DATE:20230410
DTEND;VALUE=DATE:20230411
DTSTAMP:20260422T144058
CREATED:20230228T144816Z
LAST-MODIFIED:20230228T144908Z
UID:6270-1681084800-1681171199@infocrep.cssdm.gouv.qc.ca
SUMMARY:Congé et jour férié
DESCRIPTION:
URL:https://infocrep.cssdm.gouv.qc.ca/enseignants/event/conge-et-jour-ferie-3/
END:VEVENT
BEGIN:VEVENT
DTSTART;TZID=America/New_York:20230414T090000
DTEND;TZID=America/New_York:20230414T120000
DTSTAMP:20260422T144058
CREATED:20230228T150241Z
LAST-MODIFIED:20230411T184340Z
UID:6272-1681462800-1681473600@infocrep.cssdm.gouv.qc.ca
SUMMARY:ABC de la gestion de crise - Formation ouverte aux partenaires avec Tanya
DESCRIPTION:Formation complète\nCette formation permettra d’explorer le concept de crise en général\, pour ensuite se concentrer sur les aspects de prévention et d’intervention face à des comportements agressifs. \nDans un deuxième temps\, nous utiliserons des mises en situation pour planifier et concevoir des interventions adaptées selon les contextes (type de crise\, évaluation du risque\, contexte humain – groupe/individuel\, etc.) \n  \nVeuillez inscrire votre nom dans ce Doodle pour nous signifier votre participation: \nxxxxxxxx \n  \nLes enseignants à taux horaire sont invités et seront rémunérés pour leur présence. 
URL:https://infocrep.cssdm.gouv.qc.ca/enseignants/event/abc-gestion-de-crise-formation/
CATEGORIES:Rencontres et formations
ATTACH;FMTTYPE=image/png:https://infocrep.cssdm.gouv.qc.ca/enseignants/wp-content/uploads/sites/6/2023/02/Bienveillance.png
END:VEVENT
BEGIN:VEVENT
DTSTART;TZID=America/New_York:20230417T103000
DTEND;TZID=America/New_York:20230417T115000
DTSTAMP:20260422T144058
CREATED:20221006T151646Z
LAST-MODIFIED:20230419T190122Z
UID:5141-1681727400-1681732200@infocrep.cssdm.gouv.qc.ca
SUMMARY:Rencontre d'équipe du milieu carcéral - Reportée au 1 mai
DESCRIPTION:Les détails suivront bientôt.
URL:https://infocrep.cssdm.gouv.qc.ca/enseignants/event/rencontre-dequipe-du-milieu-carceral-6/
CATEGORIES:Rencontres et formations
ATTACH;FMTTYPE=image/png:https://infocrep.cssdm.gouv.qc.ca/enseignants/wp-content/uploads/sites/6/2022/10/Carceral_equipe.png
END:VEVENT
BEGIN:VEVENT
DTSTART;TZID=America/New_York:20230421T090000
DTEND;TZID=America/New_York:20230421T120000
DTSTAMP:20260422T144058
CREATED:20230228T151145Z
LAST-MODIFIED:20230419T153550Z
UID:6277-1682067600-1682078400@infocrep.cssdm.gouv.qc.ca
SUMMARY:Rencontre du service de l’Intégration socioprofessionnelle (ISP)
DESCRIPTION:Rencontre ISP du 21 avril 2023 à 9h au CREP\n  \nN’oubliez pas d’apporter votre ordinateur.\nOrdre du Jour :\n\nProjet éducatif: présentation du comité de pilotage \nLes points stratégiques  \n\nFolio – Auto-déclaration pour tous les enseignant.e.s \n\n\n\n\n\n\nAssemblée de placement du personnel enseignant en FGA – Session d’été 2023 \n\n\n\n  \n\nTravail Collaboratif  \n\nRetour sur les équipes \nPoursuite du plan de travail (document collaboratif) \n\nÉvaluation du contenu pédagogique lié aux activités interactives ou de vos propres activités que vous souhaitez partager.   \n\n\n\n\n\n\n\n\nNouveautés :  \n\nCanaux dans l’équipe Team \n\n\n\n\n\nChoix et dépôt de ressources dans les différents sigles des cours inspirants
URL:https://infocrep.cssdm.gouv.qc.ca/enseignants/event/rencontre-du-service-de-lintegration-socioprofessionnelle-isp-7/
CATEGORIES:Rencontres et formations
ATTACH;FMTTYPE=image/png:https://infocrep.cssdm.gouv.qc.ca/enseignants/wp-content/uploads/sites/6/2021/12/ISP-et-FLS.png
END:VEVENT
BEGIN:VEVENT
DTSTART;TZID=America/New_York:20230423T080000
DTEND;TZID=America/New_York:20230430T170000
DTSTAMP:20260422T144058
CREATED:20221006T160233Z
LAST-MODIFIED:20221006T160233Z
UID:5162-1682236800-1682874000@infocrep.cssdm.gouv.qc.ca
SUMMARY:Semaine du personnel de bureau et de l’administration
DESCRIPTION:
URL:https://infocrep.cssdm.gouv.qc.ca/enseignants/event/semaine-du-personnel-de-bureau-et-de-ladministration-2/
END:VEVENT
BEGIN:VEVENT
DTSTART;TZID=America/New_York:20230424T080000
DTEND;TZID=America/New_York:20230430T170000
DTSTAMP:20260422T144058
CREATED:20221006T160316Z
LAST-MODIFIED:20221006T160316Z
UID:5164-1682323200-1682874000@infocrep.cssdm.gouv.qc.ca
SUMMARY:Semaine de reconnaissance des bénévoles
DESCRIPTION:
URL:https://infocrep.cssdm.gouv.qc.ca/enseignants/event/semaine-de-reconnaissance-des-benevoles/
END:VEVENT
BEGIN:VEVENT
DTSTART;TZID=America/New_York:20230428T090000
DTEND;TZID=America/New_York:20230428T120000
DTSTAMP:20260422T144058
CREATED:20230228T151935Z
LAST-MODIFIED:20230420T143325Z
UID:6279-1682672400-1682683200@infocrep.cssdm.gouv.qc.ca
SUMMARY:Café-rencontre: Le trouble du spectre de l'autisme (TSA) partie 2
DESCRIPTION:Atelier en continuité de la partie 1 :  Le trouble du spectre de l’autisme (TSA) \nNotez que les enseignants qui n’ont pas participé à la première partie peuvent se joindre à nous. \nL’objectif sera de davantage explorer et partager autour des approches de soutien (dans un contexte individuel et de groupe) pour les personnes ayant un TSA. \n  \nVeuillez inscrire votre nom dans ce Doodle pour nous signifier votre participation: \nhttps://doodle.com/meeting/participate/id/aK8qBOxb \n  \nLes enseignants à taux horaire sont invités et seront rémunérés pour leur présence.
URL:https://infocrep.cssdm.gouv.qc.ca/enseignants/event/cafe-rencontre-trouble-danxiete-generalisee-tag/
CATEGORIES:Rencontres et formations
ATTACH;FMTTYPE=image/png:https://infocrep.cssdm.gouv.qc.ca/enseignants/wp-content/uploads/sites/6/2021/12/Cafe-rencontre.png
END:VEVENT
BEGIN:VEVENT
DTSTART;TZID=America/New_York:20230428T133000
DTEND;TZID=America/New_York:20230428T153000
DTSTAMP:20260422T144058
CREATED:20230228T152105Z
LAST-MODIFIED:20230228T152907Z
UID:6281-1682688600-1682695800@infocrep.cssdm.gouv.qc.ca
SUMMARY:Rencontre du comité de participation des enseignants aux politiques de l’école (CPEPE)
DESCRIPTION:
URL:https://infocrep.cssdm.gouv.qc.ca/enseignants/event/rencontre-du-comite-de-participation-des-enseignants-aux-politiques-de-lecole-cpepe/
CATEGORIES:Rencontres et formations
END:VEVENT
END:VCALENDAR