BEGIN:VCALENDAR
VERSION:2.0
PRODID:-//Section du personnel - Portail du CREP - ECPv6.10.3//NONSGML v1.0//EN
CALSCALE:GREGORIAN
METHOD:PUBLISH
X-WR-CALNAME:Section du personnel - Portail du CREP
X-ORIGINAL-URL:https://infocrep.cssdm.gouv.qc.ca/enseignants
X-WR-CALDESC:Évènements pour Section du personnel - Portail du CREP
REFRESH-INTERVAL;VALUE=DURATION:PT1H
X-Robots-Tag:noindex
X-PUBLISHED-TTL:PT1H
BEGIN:VTIMEZONE
TZID:America/New_York
BEGIN:DAYLIGHT
TZOFFSETFROM:-0500
TZOFFSETTO:-0400
TZNAME:EDT
DTSTART:20230312T070000
END:DAYLIGHT
BEGIN:STANDARD
TZOFFSETFROM:-0400
TZOFFSETTO:-0500
TZNAME:EST
DTSTART:20231105T060000
END:STANDARD
END:VTIMEZONE
BEGIN:VEVENT
DTSTART;TZID=America/New_York:20230203T091500
DTEND;TZID=America/New_York:20230203T120000
DTSTAMP:20260422T180706
CREATED:20230120T204120Z
LAST-MODIFIED:20230203T123003Z
UID:5987-1675415700-1675425600@infocrep.cssdm.gouv.qc.ca
SUMMARY:Rencontre du service de l’Intégration sociale (pour tous les enseignants IS)
DESCRIPTION:3 février de 9h15 à 12h00\nSalle Collaboration\n  \nOrdre du jour de la rencontre IS \n9h15 – Accueil pour tous \n1. Informations stratégiques (Marie-Claude) \no Consultation CSSDM sur les formations 2023-2024 : lien à venir dans le Bulletin \no Consultation CSSDM sur les ressources éducatives numériques (REN) \n– CPEPE déterminera les modalités de consultation et de diffusion du sondage (ind. ou groupe) \no Folio : auto-déclaration des formations : lancement en mars. \n– Rappel de l’obligation de formation continue en vertu de la Loi sur l’instruction publique (30 heures par période de deux années scolaires) \no Carrefour FGA – Après-Cours IS : vidéo intéressante sur le nouveau programme\, lien à suivre. \no Signature de la liste officielle: voir Sylvie avant de quitter svp \no Varia \n2. Projet éducatif – présentation du questionnaire aux élèves (Joanie et Marylène) \n10h15 – Pause \n10h30 – 12h – Ateliers en sous-groupes \n· Le numérique et ses projets – Tomy (salle Collaboration) \no Présentation 15 minutes : Ajouter des ressources de base à son cours \n– Comment ajouter un fichier dans votre cours (Glisser-déposer) \n– Présenter son contenu avec une étiquette (titre\, directives\, image\, picto\, etc…) \n– Ajouter des liens vers d’autres sites Web \no Accompagnement et Travaille sur vos projets personnels (45 minutes) \n· Codéveloppement : résolution de problèmes et stratégies – Joanie (salle du SDIP) \n– Joanie (salle du SDIP) \n· IS-Retour aux études – Maude (salle Sud-Ouest) \n\n\n\nDes réponses à vos questions suite à la dernière rencontre\nQuelques mesures adaptatives\nOn jase co-développement
URL:https://infocrep.cssdm.gouv.qc.ca/enseignants/event/rencontre-du-service-de-lintegration-sociale-pour-tous-les-enseignants-is/
CATEGORIES:Rencontres et formations
ATTACH;FMTTYPE=image/jpeg:https://infocrep.cssdm.gouv.qc.ca/enseignants/wp-content/uploads/sites/6/2021/10/image-IS.jpg
END:VEVENT
BEGIN:VEVENT
DTSTART;TZID=America/New_York:20230205T080000
DTEND;TZID=America/New_York:20230211T170000
DTSTAMP:20260422T180706
CREATED:20221006T160040Z
LAST-MODIFIED:20221006T160041Z
UID:5158-1675584000-1676134800@infocrep.cssdm.gouv.qc.ca
SUMMARY:Semaine des enseignantes et des enseignants
DESCRIPTION:
URL:https://infocrep.cssdm.gouv.qc.ca/enseignants/event/semaine-des-enseignantes-et-des-enseignants-2/
CATEGORIES:Grand public
END:VEVENT
BEGIN:VEVENT
DTSTART;TZID=America/New_York:20230207T080000
DTEND;TZID=America/New_York:20230207T160000
DTSTAMP:20260422T180706
CREATED:20230120T203828Z
LAST-MODIFIED:20230120T203828Z
UID:5985-1675756800-1675785600@infocrep.cssdm.gouv.qc.ca
SUMMARY:Journée pédagogique (congé pour les élèves\, travail pour les enseignants)
DESCRIPTION:L’Ordre du jour suivra sous peu.
URL:https://infocrep.cssdm.gouv.qc.ca/enseignants/event/journee-pedagogique-conge-pour-les-eleves-travail-pour-les-enseignants/
CATEGORIES:Rencontres et formations
END:VEVENT
BEGIN:VEVENT
DTSTART;TZID=America/New_York:20230210T090000
DTEND;TZID=America/New_York:20230210T120000
DTSTAMP:20260422T180706
CREATED:20230111T134650Z
LAST-MODIFIED:20230111T134853Z
UID:5944-1676019600-1676030400@infocrep.cssdm.gouv.qc.ca
SUMMARY:Mon rôle est…Mon rôle n’est pas au CREP
DESCRIPTION:Les détails suivront sous peu. \n  \nVeuillez inscrire votre nom dans ce Doodle afin de nous signifier votre participation: \nhttps://doodle.com/meeting/participate/id/egpYvp9a \n  \nLes enseignants à taux horaires sont invités et seront rémunérés pour leur participation.
URL:https://infocrep.cssdm.gouv.qc.ca/enseignants/event/mon-role-estmon-role-nest-pas-au-crep/
CATEGORIES:Rencontres et formations
ATTACH;FMTTYPE=image/png:https://infocrep.cssdm.gouv.qc.ca/enseignants/wp-content/uploads/sites/6/2021/11/Equipe.png
END:VEVENT
BEGIN:VEVENT
DTSTART;TZID=America/New_York:20230213T080000
DTEND;TZID=America/New_York:20230217T170000
DTSTAMP:20260422T180706
CREATED:20221006T160144Z
LAST-MODIFIED:20221006T160145Z
UID:5160-1676275200-1676653200@infocrep.cssdm.gouv.qc.ca
SUMMARY:Journées de la persévérance scolaire
DESCRIPTION:
URL:https://infocrep.cssdm.gouv.qc.ca/enseignants/event/journees-de-la-perseverance-scolaire-2/
END:VEVENT
BEGIN:VEVENT
DTSTART;TZID=America/New_York:20230216T153000
DTEND;TZID=America/New_York:20230216T163000
DTSTAMP:20260422T180706
CREATED:20230120T204518Z
LAST-MODIFIED:20230215T134108Z
UID:5990-1676561400-1676565000@infocrep.cssdm.gouv.qc.ca
SUMMARY:Rencontre du service de la Francisation
DESCRIPTION:15h30 – Sur Teams \nORDRE DU JOUR \n1- Accueil et ordre du jour \n2- Informations stratégiques \n\nPrésentation de Sébastien Ross\, nouvel adjoint au CREP\nConsultations CSSDM : voir les 2 derniers bulletins\n\nFormations\nREN\n\n\nDemande de congés\nChangement au calendrier scolaire 2 mars\nSondage des partenaires : votre collaboration est de mise\n\n  \n3- Clôture de la rencontre
URL:https://infocrep.cssdm.gouv.qc.ca/enseignants/event/rencontre-du-service-de-la-francisation-8/
CATEGORIES:Rencontres et formations
ATTACH;FMTTYPE=image/png:https://infocrep.cssdm.gouv.qc.ca/enseignants/wp-content/uploads/sites/6/2022/01/FLS.png
END:VEVENT
BEGIN:VEVENT
DTSTART;TZID=America/New_York:20230216T153000
DTEND;TZID=America/New_York:20230216T170000
DTSTAMP:20260422T180706
CREATED:20230111T141308Z
LAST-MODIFIED:20230111T141308Z
UID:5950-1676561400-1676566800@infocrep.cssdm.gouv.qc.ca
SUMMARY:CÉ du CREP
DESCRIPTION:
URL:https://infocrep.cssdm.gouv.qc.ca/enseignants/event/ce-du-crep/
CATEGORIES:Rencontres et formations
END:VEVENT
BEGIN:VEVENT
DTSTART;TZID=America/New_York:20230217T091500
DTEND;TZID=America/New_York:20230217T120000
DTSTAMP:20260422T180706
CREATED:20230120T204801Z
LAST-MODIFIED:20230215T183718Z
UID:5992-1676625300-1676635200@infocrep.cssdm.gouv.qc.ca
SUMMARY:Rencontre du service de l’Intégration socioprofessionnelle (ISP)
DESCRIPTION:Ordre du Jour : rencontre ISP 17 février 2023\n  \nLes points stratégiques : \n\nFermeture du 23 décembre 2022 – Changement d’une journée pédagogique en journée de classe\nDemandes et octrois de congé\, incluant les nouvelles demandes de retraite progressive\, pour l’année scolaire 2023-2024\nConsultation annuelle sur les besoins en perfectionnement 2023-2024\nModule pour déclarer vos formations suivies en dehors de Folio\nRessources éducatives numériques (REN)\n\n  \nTravail collaboratif \n\nRetour sur les équipes\nPrésentation des plans de travail\nPoursuite du travail en sous-groupe\n\n  \nN’oubliez d’apporter votre portable
URL:https://infocrep.cssdm.gouv.qc.ca/enseignants/event/rencontre-du-service-de-lintegration-socioprofessionnelle-isp-5/
CATEGORIES:Rencontres et formations
ATTACH;FMTTYPE=image/png:https://infocrep.cssdm.gouv.qc.ca/enseignants/wp-content/uploads/sites/6/2023/01/Service-ISP.png
END:VEVENT
BEGIN:VEVENT
DTSTART;TZID=America/New_York:20230220T103000
DTEND;TZID=America/New_York:20230220T115000
DTSTAMP:20260422T180706
CREATED:20221006T151156Z
LAST-MODIFIED:20230215T193236Z
UID:5134-1676889000-1676893800@infocrep.cssdm.gouv.qc.ca
SUMMARY:Rencontre d'équipe du milieu carcéral
DESCRIPTION:Lundi le 20 février 2023 – De 10h35 à 11h50\, Salle 11 \nOrdre du jour \n\n\n\n  \nSujets \n \nC : Consultation \nD : Discussion \nI  :  Information\nMinutes \nprévues\n\n\nToute l’équipe   CSSDM  /CDF\n \n \n \n\n\nVolontaire pour la rencontre en lien avec les 2 tâches\nMarie-Nadège\nC\n2\n\n\nPrésentation de l’ordre du jour\nMarie-Nadège\nI\n5\n\n\nJournée pédagogique le 2 mars 2023\nMarie-Nadège\nI\n2\n\n\nConsultation annuelle sur les besoins en perfectionnement 2023-2024\nMarie-Nadège\nI\n1\n\n\nModule pour déclaration suivies en dehors de Folio\nMarie-Nadège\nI\n1\n\n\nRessources éducatives numériques\nMarie-Nadège\nI\n1\n\n\nDépart Claudine (Organisation scolaire)\nLise\nI\n5\n\n\nOrganisation scolaire (Groupes MUS\, listes de prés. Tosca/Jade)\nLise\nI\n5\n\n\nRappel transmission 3 absences consécutives élèves/Gestion des présences\nLise\nI\n5\n\n\nRappel organisation de travail\nChantale\nI\n10
URL:https://infocrep.cssdm.gouv.qc.ca/enseignants/event/rencontre-dequipe-du-milieu-carceral-4/
CATEGORIES:Rencontres et formations
ATTACH;FMTTYPE=image/png:https://infocrep.cssdm.gouv.qc.ca/enseignants/wp-content/uploads/sites/6/2022/10/Carceral_equipe.png
END:VEVENT
BEGIN:VEVENT
DTSTART;TZID=America/New_York:20230224T093000
DTEND;TZID=America/New_York:20230224T113000
DTSTAMP:20260422T180706
CREATED:20230118T170018Z
LAST-MODIFIED:20230221T170855Z
UID:5971-1677231000-1677238200@infocrep.cssdm.gouv.qc.ca
SUMMARY:Café-rencontre avec Tanya : Les troubles d'attention avec ou sans hyperactivité/impulsivité (TDAH)
DESCRIPTION:Ce café-rencontre se veut une occasion d’échanger entre collègues sur les troubles d’attention avec ou sans hyperactivité/impulsivité (TDAH). Dans un premier temps\, nous ferons un petit retour sur les connaissances du groupe en lien avec les troubles de l’attention (particularité chez les personnes adultes\, symptômes fréquents et défis ou problématiques connexes)\, puis nous ciblerons des questions et des préoccupations sur lesquelles nous aimerions orienter nos échanges tel que : quels défis sont plus souvent rencontrés avec nos apprenants ayant un trouble du déficit de l’attention avec ou sans hyperactivité ? Quels sont les enjeux plus particuliers concernant les dynamiques qui émergent dans un groupe ? Quelles sont les conditions qui favorisent l’apprentissage pour les élèves ayant ce profil ? \nDans un deuxième temps\, nous pourrons explorer des outils et des ressources disponibles et faire des liens avec des exemples de pratiques gagnantes dans vos milieux. \n  \nVeuillez inscrire votre nom dans ce Doodle pour nous signifier votre participation: \nhttps://doodle.com/meeting/participate/id/aA66V3lb \n  \nLes enseignants à taux horaire sont invités et seront rémunérés pour leur présence. \n  \n 
URL:https://infocrep.cssdm.gouv.qc.ca/enseignants/event/cafe-rencontre-les-troubles-dattention-avec-ou-sans-hyperactivite-impulsivite-tdah/
CATEGORIES:Rencontres et formations
ATTACH;FMTTYPE=image/png:https://infocrep.cssdm.gouv.qc.ca/enseignants/wp-content/uploads/sites/6/2022/10/Cafe-Rencontre.png
END:VEVENT
BEGIN:VEVENT
DTSTART;TZID=America/New_York:20230224T133000
DTEND;TZID=America/New_York:20230224T153000
DTSTAMP:20260422T180706
CREATED:20230120T204952Z
LAST-MODIFIED:20230224T160202Z
UID:5995-1677245400-1677252600@infocrep.cssdm.gouv.qc.ca
SUMMARY:Rencontre du comité de participation des enseignantes et des enseignants aux politiques de l'école (CPEPE)
DESCRIPTION:
URL:https://infocrep.cssdm.gouv.qc.ca/enseignants/event/rencontre-cpepe/
CATEGORIES:Rencontres et formations
END:VEVENT
END:VCALENDAR