BEGIN:VCALENDAR
VERSION:2.0
PRODID:-//Section du personnel - Portail du CREP - ECPv6.10.3//NONSGML v1.0//EN
CALSCALE:GREGORIAN
METHOD:PUBLISH
X-WR-CALNAME:Section du personnel - Portail du CREP
X-ORIGINAL-URL:https://infocrep.cssdm.gouv.qc.ca/enseignants
X-WR-CALDESC:Évènements pour Section du personnel - Portail du CREP
REFRESH-INTERVAL;VALUE=DURATION:PT1H
X-Robots-Tag:noindex
X-PUBLISHED-TTL:PT1H
BEGIN:VTIMEZONE
TZID:America/New_York
BEGIN:DAYLIGHT
TZOFFSETFROM:-0500
TZOFFSETTO:-0400
TZNAME:EDT
DTSTART:20260308T070000
END:DAYLIGHT
BEGIN:STANDARD
TZOFFSETFROM:-0400
TZOFFSETTO:-0500
TZNAME:EST
DTSTART:20261101T060000
END:STANDARD
END:VTIMEZONE
BEGIN:VEVENT
DTSTART;TZID=America/New_York:20260227T084500
DTEND;TZID=America/New_York:20260227T120000
DTSTAMP:20260421T162951
CREATED:20250819T211725Z
LAST-MODIFIED:20260206T171009Z
UID:10036-1772181900-1772193600@infocrep.cssdm.gouv.qc.ca
SUMMARY:Formation de prévention du suicide au CREP - Ouverte aux partenaires et enseignants
DESCRIPTION:Signifiez votre intérêt avant le 20 février à 13h : Formation le 27 février et le 6 mars\, de 8 h 30 à 12 h.\n\n\n\n\n\n\n\n  \nSentinelle : repérer\, vérifier et favoriser la demande d’aide \nLe CREP offrira la formation Sentinelle qui sera animée par un formateur du Centre de prévention du suicide de Montréal. Cette formation vise à outiller les milieux afin de repérer la détresse\, favoriser la demande d’aide et orienter les personnes vers les ressources appropriées.\nLa formation se déroulera en deux demi-journées obligatoires\, soit le 27 février et le 6 mars\, de 8 h 30 à 12 h. La participation à l’ensemble du parcours de formation est requise. \nLe rôle de Sentinelle s’inscrit dans une approche de prévention de proximité\, complémentaire aux services professionnels déjà en place.\nÊtre Sentinelle\, c’est : \n\nêtre attentif aux signes de détresse chez les personnes que l’on côtoie ;\noser poser des questions simples et bienveillantes ;\nfavoriser le lien avec les ressources internes ou externes appropriées.\nUn engagement volontaire et encadré\n\nLe rôle de Sentinelle implique d’aborder des sujets sensibles et une responsabilité importante. C’est pourquoi : \n\nl’inscription à la formation se fait sur une base volontaire ;\nles personnes intéressées doivent se sentir à l’aise et disponibles pour assumer ce rôle ;\nun soutien et un accompagnement adaptés\, en collaboration avec nos psychoéducatrices\, sont prévus ;\nil est possible de se retirer du réseau des Sentinelles en tout temps\, sans avoir à se justifier.\n\n  \nPlaces limitées  \nLa formation est offerte à un nombre restreint de participants (maximum 12 personnes)\, elle est ouverte aux enseignants ainsi qu’aux membres partenaires. Advenant un nombre d’inscriptions supérieur aux places disponibles\, nous favoriserons les participants en fonction du contexte de leur milieu de travail et de la clientèle desservie. Les personnes qui ne pourront y participer seront invitées à la prochaine formation Sentinelle qui se tiendra au CREP. La date de cette formation leur sera communiquée ultérieurement. \nVeuillez signifier votre intérêt en remplissant le formulaire en cliquant ICI. Notez qu’une confirmation d’inscription vous sera transmise le vendredi 20 février en fin d’après-midi.
URL:https://infocrep.cssdm.gouv.qc.ca/enseignants/event/ateliers-ou-formations-possibles-5/
END:VEVENT
END:VCALENDAR