BEGIN:VCALENDAR
VERSION:2.0
PRODID:-//Section du personnel - Portail du CREP - ECPv6.10.3//NONSGML v1.0//EN
CALSCALE:GREGORIAN
METHOD:PUBLISH
X-WR-CALNAME:Section du personnel - Portail du CREP
X-ORIGINAL-URL:https://infocrep.cssdm.gouv.qc.ca/enseignants
X-WR-CALDESC:Évènements pour Section du personnel - Portail du CREP
REFRESH-INTERVAL;VALUE=DURATION:PT1H
X-Robots-Tag:noindex
X-PUBLISHED-TTL:PT1H
BEGIN:VTIMEZONE
TZID:America/New_York
BEGIN:DAYLIGHT
TZOFFSETFROM:-0500
TZOFFSETTO:-0400
TZNAME:EDT
DTSTART:20240310T070000
END:DAYLIGHT
BEGIN:STANDARD
TZOFFSETFROM:-0400
TZOFFSETTO:-0500
TZNAME:EST
DTSTART:20241103T060000
END:STANDARD
END:VTIMEZONE
BEGIN:VEVENT
DTSTART;TZID=America/New_York:20240513T084500
DTEND;TZID=America/New_York:20240513T114500
DTSTAMP:20260425T181650
CREATED:20231222T150711Z
LAST-MODIFIED:20240509T195356Z
UID:7619-1715589900-1715600700@infocrep.cssdm.gouv.qc.ca
SUMMARY:Rencontre de suivis de l’EDM
DESCRIPTION:Rencontre d’équipe mensuelle du Centre de formation de l’EDM \nLundi le 13 mai 2024 \nDe 11h00 à 12h00\, Salle 4 \n\nOrdre du jour:\nPrésentation de l’ordre du jour\nParty fin d’année (14 juin 2024)\nRappel sur le Portail du Crep\nModalité d’attribution des postes d’été des enseignants\nà taux horaire\nReport de vacances\nDes expériences humaines à partager pour démystifier les différentes façons de communiquer mai de 13h00 à 117h00 (Chalet Robin des bois)\nTests de diagnostiques\nDemandes d’examen date butoir (fin d’année)\nSéances TENS
URL:https://infocrep.cssdm.gouv.qc.ca/enseignants/event/rencontre-de-suivis-de-ledm-6/
CATEGORIES:Suivis de l’EDM
END:VEVENT
END:VCALENDAR