BEGIN:VCALENDAR
VERSION:2.0
PRODID:-//Section du personnel - Portail du CREP - ECPv6.10.3//NONSGML v1.0//EN
CALSCALE:GREGORIAN
METHOD:PUBLISH
X-WR-CALNAME:Section du personnel - Portail du CREP
X-ORIGINAL-URL:https://infocrep.cssdm.gouv.qc.ca/enseignants
X-WR-CALDESC:Évènements pour Section du personnel - Portail du CREP
REFRESH-INTERVAL;VALUE=DURATION:PT1H
X-Robots-Tag:noindex
X-PUBLISHED-TTL:PT1H
BEGIN:VTIMEZONE
TZID:America/New_York
BEGIN:DAYLIGHT
TZOFFSETFROM:-0500
TZOFFSETTO:-0400
TZNAME:EDT
DTSTART:20240310T070000
END:DAYLIGHT
BEGIN:STANDARD
TZOFFSETFROM:-0400
TZOFFSETTO:-0500
TZNAME:EST
DTSTART:20241103T060000
END:STANDARD
END:VTIMEZONE
BEGIN:VEVENT
DTSTART;TZID=America/New_York:20240417T080000
DTEND;TZID=America/New_York:20240418T170000
DTSTAMP:20260419T221016
CREATED:20240416T191159Z
LAST-MODIFIED:20240417T144514Z
UID:8053-1713340800-1713459600@infocrep.cssdm.gouv.qc.ca
SUMMARY:Salon de l’emploi et de la formation continue : 17 et 18 avril
DESCRIPTION:Salon de l’emploi et de la formation continue\nMercredi 17 avril de 12 h à 19 h et Jeudi 18 avril de 10 h à  18 h au Palais des congrès de Montréal \nSalle 210\n\n\n\n\n\nTrouvez votre chemin professionnel  au Salon de l’emploi et de la formation continue\n\n\n\n\nVous êtes à la recherche de nouvelles opportunités professionnelles\, d’un emploi stimulant et épanouissant ? Ne cherchez plus ! Le Salon de l’emploi et de la formation continue est l’événement incontournable gratuit pour tous ceux qui aspirent à une carrière réussie. On se retrouve le mercredi 17 avril  de 12 h à 19 h et le jeudi 18 avril de 10 h à 18 h au Palais des congrès de Montréal – salle 210\, plus de 250 exposants et 20 000 offres vous attendent.
URL:https://infocrep.cssdm.gouv.qc.ca/enseignants/event/salon-de-lemploi-et-de-la-formation-continue-17-et-18-avril/
CATEGORIES:Événements externes
END:VEVENT
BEGIN:VEVENT
DTSTART;TZID=America/New_York:20240418T080000
DTEND;TZID=America/New_York:20240418T160000
DTSTAMP:20260419T221016
CREATED:20231221T200022Z
LAST-MODIFIED:20240417T150307Z
UID:7604-1713427200-1713456000@infocrep.cssdm.gouv.qc.ca
SUMMARY:Journée pédagogique (congé pour les élèves\, travail pour les enseignants)
DESCRIPTION:Travail professionnel de 8h45 à 15h15 en organisme ou au CREP.  \nNotez que les enseignants à taux horaire ne sont pas rémunérés lors des journées pédagogiques lorsqu’ils ne sont pas convoqués à des rencontres\, ce qui est le cas présent.
URL:https://infocrep.cssdm.gouv.qc.ca/enseignants/event/journee-pedagogique-conge-pour-les-eleves-travail-pour-les-enseignants-3/
CATEGORIES:Journée pédagogique
END:VEVENT
END:VCALENDAR