BEGIN:VCALENDAR
VERSION:2.0
PRODID:-//Section du personnel - Portail du CREP - ECPv6.10.3//NONSGML v1.0//EN
CALSCALE:GREGORIAN
METHOD:PUBLISH
X-WR-CALNAME:Section du personnel - Portail du CREP
X-ORIGINAL-URL:https://infocrep.cssdm.gouv.qc.ca/enseignants
X-WR-CALDESC:Évènements pour Section du personnel - Portail du CREP
REFRESH-INTERVAL;VALUE=DURATION:PT1H
X-Robots-Tag:noindex
X-PUBLISHED-TTL:PT1H
BEGIN:VTIMEZONE
TZID:America/New_York
BEGIN:DAYLIGHT
TZOFFSETFROM:-0500
TZOFFSETTO:-0400
TZNAME:EDT
DTSTART:20240310T070000
END:DAYLIGHT
BEGIN:STANDARD
TZOFFSETFROM:-0400
TZOFFSETTO:-0500
TZNAME:EST
DTSTART:20241103T060000
END:STANDARD
END:VTIMEZONE
BEGIN:VEVENT
DTSTART;TZID=America/New_York:20240405T084500
DTEND;TZID=America/New_York:20240405T114500
DTSTAMP:20260419T190759
CREATED:20231221T195346Z
LAST-MODIFIED:20240402T195034Z
UID:7595-1712306700-1712317500@infocrep.cssdm.gouv.qc.ca
SUMMARY:Atelier ouvert aux partenaires : Gestion des comportements difficiles et prévention de la crise
DESCRIPTION:Cet atelier est une reprise de l’atelier « ABC de la gestion de crise » offert l’an passé le 14 avril.  \nNotez que cet atelier qui aura lieu au CREP est également ouvert à nos partenaires. Afin d’offrir la possibilité au plus grand nombre de partenaires d’y participer\, nous offrons deux places par partenaire (sans compter l’enseignant). Dans l’objectif d’offrir un climat permettant les échanges constructifs\, nous limiterons cet atelier à un maximum de 20 personnes. Veuillez communiquer avec l’accueil du CREP pour vous inscrire en écrivant à : crep@csdm.qc.ca \n  \nCet atelier offert par Tanya Bousquet St-Laurent\, psychoéducatrice au CREP\, permet d’explorer le concept de crise en général\, pour ensuite se concentrer sur les aspects de prévention et un bref aperçu des pratiques à préconiser pour l’intervention face à des comportements agressifs. \n  \nCet atelier visera l’échange entre les participants et le travail autour de mises en situation pour planifier et concevoir des interventions adaptées selon les contextes (identification des besoins\, évaluation du risque\, contexte humain – groupe/individuel\, etc.) Il vise également à permettre aux participants de clarifier leur posture\, leur niveau d’aisance et leurs responsabilités face à l’intervention de crise. \n  \nPour vous inscrire à l’atelier \nAfin d’offrir la possibilité au plus grand nombre de partenaires d’y participer\, nous offrons deux places par organisme partenaire (sans compter l’enseignant).  Nous limiterons cet atelier à un maximum de 20 personnes. \n\nVeuillez remplir le formulaire en cliquant ici pour vous inscrire.\n\n  \nRémunération des enseignants lors des ateliers et formations \nLes enseignants à taux horaire sont invités à faire une demande au Comité local de perfectionnement (CLP) pour les formations et ateliers offerts au CREP à l’adresse suivante houle.v@csdm.qc.ca. \nVeuillez remplir ce fichier et le faire suivre à la même adresse: \n\nPerfectionnement du personnel enseignant – demande d’aide financière (D010)\n\nNotez qu’il n’est pas nécessaire de faire une telle demande pour les rencontres des services d’enseignement. Tous les enseignants seront rémunérés lors des rencontres des services d’enseignement.
URL:https://infocrep.cssdm.gouv.qc.ca/enseignants/event/formation-ouverte-aux-partenaires-et-enseignants-gestion-des-comportements-difficiles-et-prevention-de-la-crise/
CATEGORIES:Rencontres et formations
END:VEVENT
BEGIN:VEVENT
DTSTART;TZID=America/New_York:20240405T130000
DTEND;TZID=America/New_York:20240405T160000
DTSTAMP:20260419T190759
CREATED:20231221T195606Z
LAST-MODIFIED:20240402T203000Z
UID:7597-1712322000-1712332800@infocrep.cssdm.gouv.qc.ca
SUMMARY:Rencontre du service de la Francisation (FLS)- Reportée au 12 avril à 13h30
DESCRIPTION:
URL:https://infocrep.cssdm.gouv.qc.ca/enseignants/event/rencontre-du-service-de-la-francisation-fls-5/
CATEGORIES:Service Francisation
END:VEVENT
END:VCALENDAR