BEGIN:VCALENDAR
VERSION:2.0
PRODID:-//Section du personnel - Portail du CREP - ECPv6.10.3//NONSGML v1.0//EN
CALSCALE:GREGORIAN
METHOD:PUBLISH
X-WR-CALNAME:Section du personnel - Portail du CREP
X-ORIGINAL-URL:https://infocrep.cssdm.gouv.qc.ca/enseignants
X-WR-CALDESC:Évènements pour Section du personnel - Portail du CREP
REFRESH-INTERVAL;VALUE=DURATION:PT1H
X-Robots-Tag:noindex
X-PUBLISHED-TTL:PT1H
BEGIN:VTIMEZONE
TZID:America/New_York
BEGIN:DAYLIGHT
TZOFFSETFROM:-0500
TZOFFSETTO:-0400
TZNAME:EDT
DTSTART:20240310T070000
END:DAYLIGHT
BEGIN:STANDARD
TZOFFSETFROM:-0400
TZOFFSETTO:-0500
TZNAME:EST
DTSTART:20241103T060000
END:STANDARD
END:VTIMEZONE
BEGIN:VEVENT
DTSTART;TZID=America/New_York:20240322T084500
DTEND;TZID=America/New_York:20240322T114500
DTSTAMP:20260419T191834
CREATED:20231221T191426Z
LAST-MODIFIED:20240320T144553Z
UID:7587-1711097100-1711107900@infocrep.cssdm.gouv.qc.ca
SUMMARY:Rencontre du service de l’Intégration sociale (IS)
DESCRIPTION:22 mars\, de 9h00 à 12h00\nTous les enseignants.tes à taux horaire sont aussi conviés.   \nOrdre du jour: \n8h45 Accueil et jasette  \n9h00 Informations stratégiques \n\nSébastien\, Tanya\, Tomy et Maude\n\n9h45  \n\nPoursuite des travaux collaboratifs pour PPS\nPause\nPartage de situation d’apprentissage\n\n  Au plaisir de vous voir!
URL:https://infocrep.cssdm.gouv.qc.ca/enseignants/event/rencontre-du-service-de-lintegration-sociale-is-7/
CATEGORIES:Service de l'Intégration sociale
END:VEVENT
BEGIN:VEVENT
DTSTART;TZID=America/New_York:20240322T130000
DTEND;TZID=America/New_York:20240322T141500
DTSTAMP:20260419T191834
CREATED:20231221T191949Z
LAST-MODIFIED:20231221T191949Z
UID:7589-1711112400-1711116900@infocrep.cssdm.gouv.qc.ca
SUMMARY:CPEPE
DESCRIPTION:
URL:https://infocrep.cssdm.gouv.qc.ca/enseignants/event/cpepe-8/
CATEGORIES:Rencontres et formations
END:VEVENT
BEGIN:VEVENT
DTSTART;TZID=America/New_York:20240322T133000
DTEND;TZID=America/New_York:20240322T153000
DTSTAMP:20260419T191834
CREATED:20240206T162754Z
LAST-MODIFIED:20240301T203521Z
UID:7778-1711114200-1711121400@infocrep.cssdm.gouv.qc.ca
SUMMARY:Formation (reprise): Mon rôle est\, mon rôle n’est pas
DESCRIPTION:Deuxième partie \nCette formation est une reprise. Notez que  cette formation est la suite de la première qui a eu lieu  le 1 mars 2024.  \nEn contexte de partenariat\, l’enseignant\, le partenaire et l’équipe-CREP œuvrent à une mission commune et partagée pour répondre aux besoins des élèves. \nÀ travers cet atelier\, nous entamerons un travail de réflexion sur les rôles et responsabilités des différents intervenants (enseignants\, professionnels\, directions adjointes et partenaires) dans des situations actuelles de travail. \nPour signifier votre participation\, veuillez inscrire votre nom dans la plateforme suivante: \n\nhttps://xoyondo.com/dp/81pikpgj827c86c\n\nVeuillez prendre note que nous annulerons la formation si moins de 5 personnes sont inscrites. \n  \nRémunération lors des ateliers et formations \nLes enseignants à taux horaire sont invités à faire une demande au Comité local de perfectionnement (CLP) pour les formations et ateliers offerts au CREP à l’adresse suivante houle.v@csdm.qc.ca. \nVeuillez remplir ce fichier et le faire suivre à la même adresse: \n\nPerfectionnement du personnel enseignant – demande d’aide financière (D010)\n\nNotez qu’il n’est pas nécessaire de faire une telle demande pour les rencontres des services d’enseignement. Tous les enseignants seront rémunérés lors des rencontres des services d’enseignement.
URL:https://infocrep.cssdm.gouv.qc.ca/enseignants/event/formation-reprise-mon-role-est-mon-role-nest-pas-2/
CATEGORIES:Rencontres et formations
END:VEVENT
END:VCALENDAR