BEGIN:VCALENDAR
VERSION:2.0
PRODID:-//Section du personnel - Portail du CREP - ECPv6.10.3//NONSGML v1.0//EN
CALSCALE:GREGORIAN
METHOD:PUBLISH
X-WR-CALNAME:Section du personnel - Portail du CREP
X-ORIGINAL-URL:https://infocrep.cssdm.gouv.qc.ca/enseignants
X-WR-CALDESC:Évènements pour Section du personnel - Portail du CREP
REFRESH-INTERVAL;VALUE=DURATION:PT1H
X-Robots-Tag:noindex
X-PUBLISHED-TTL:PT1H
BEGIN:VTIMEZONE
TZID:America/New_York
BEGIN:DAYLIGHT
TZOFFSETFROM:-0500
TZOFFSETTO:-0400
TZNAME:EDT
DTSTART:20240310T070000
END:DAYLIGHT
BEGIN:STANDARD
TZOFFSETFROM:-0400
TZOFFSETTO:-0500
TZNAME:EST
DTSTART:20241103T060000
END:STANDARD
END:VTIMEZONE
BEGIN:VEVENT
DTSTART;TZID=America/New_York:20240315T084500
DTEND;TZID=America/New_York:20240315T114500
DTSTAMP:20260419T191834
CREATED:20231221T191325Z
LAST-MODIFIED:20240313T204748Z
UID:7585-1710492300-1710503100@infocrep.cssdm.gouv.qc.ca
SUMMARY:Rencontre du service de l’Intégration socioprofessionnelle (ISP)
DESCRIPTION:Ordre du Jour :\nAccueil et ordre du jour \n\nPoints stratégiques :\n\nFormation obligatoire pour tous – Protection des renseignements personnels\n\nConsentement (partage d’information personnelle – Tanya)\n\n\nModification du calendrier des rencontres ISP (avril à juin)\nL’exposition de la FGA de l’Écomusée du fier Monde est de retour du 27 mars au 14 avril. Vernissage le 28 mars à 10h.\nLettre à l’attention des élèves remise aux partenaires: vaccination contre la rougeole\n\n\nTravail collaboratif : Actualisation des demandes d’attestations\n\nÉtat de la situation\nRemise des modèles de demande d’attestation\nAnalyse en groupe des modèles d’attestation\n\n\n\n  \n* Début de la rencontre à 8 h 45
URL:https://infocrep.cssdm.gouv.qc.ca/enseignants/event/rencontre-du-service-de-lintegration-socioprofessionnelle-isp-13/
CATEGORIES:Service de l'Intégration socioprofessionnelle (ISP)
END:VEVENT
BEGIN:VEVENT
DTSTART;TZID=America/New_York:20240315T130000
DTEND;TZID=America/New_York:20240315T160000
DTSTAMP:20260419T191834
CREATED:20240119T144458Z
LAST-MODIFIED:20240201T205939Z
UID:7722-1710507600-1710518400@infocrep.cssdm.gouv.qc.ca
SUMMARY:Formation (reprise): Créer une réalisation CANVA et l’intégrer dans Moodle
DESCRIPTION:Veuillez noter que cette formation est une reprise de la formation offerte le 17 mars 2023. \nVous désirez améliorer vos présentations PowerPoint\, vous désirez faire un journal étudiant\, vous désirez faire le montage d’une capsule vidéo ? C’est possiblement CANVA qu’il vous faut ! \nCanva est un outil de design et de publication en ligne dont la mission est de permettre à chacun dans le monde de concevoir ce qu’il souhaite et de publier où il le souhaite. Par conséquent\, lors de cet atelier\, vous serez en mesure: \n\nd’apprendre comment créer divers types de réalisation;\nde classer vos réalisations;\nde partager une réalisation dans l’intention de collaborer avec un élève ou avec un collègue de travail;\nd’ajouter votre réalisation dans votre cours Moodle.\n\nVeuillez inscrire votre nom sur cette plateforme afin de nous signifier votre présence: \n\nhttps://xoyondo.com/dp/ykk2oua95xz6r8h\n\n  \nRémunération lors des ateliers et formations \nLes enseignants à taux horaire sont invités à faire une demande au Comité local de perfectionnement (CLP) pour les formations et ateliers offerts au CREP à l’adresse suivante houle.v@csdm.qc.ca. \nVeuillez remplir ce fichier et le faire suivre à la même adresse: \n\nPerfectionnement du personnel enseignant – demande d’aide financière (D010)\n\nNotez qu’il n’est pas nécessaire de faire une telle demande pour les rencontres des services d’enseignement. Tous les enseignants seront rémunérés lors des rencontres des services d’enseignement.
URL:https://infocrep.cssdm.gouv.qc.ca/enseignants/event/formation-creer-une-realisation-canva-et-lintegrer-dans-moodle-2/
CATEGORIES:Rencontres et formations
END:VEVENT
END:VCALENDAR