BEGIN:VCALENDAR
VERSION:2.0
PRODID:-//Section du personnel - Portail du CREP - ECPv6.10.3//NONSGML v1.0//EN
CALSCALE:GREGORIAN
METHOD:PUBLISH
X-WR-CALNAME:Section du personnel - Portail du CREP
X-ORIGINAL-URL:https://infocrep.cssdm.gouv.qc.ca/enseignants
X-WR-CALDESC:Évènements pour Section du personnel - Portail du CREP
REFRESH-INTERVAL;VALUE=DURATION:PT1H
X-Robots-Tag:noindex
X-PUBLISHED-TTL:PT1H
BEGIN:VTIMEZONE
TZID:America/New_York
BEGIN:DAYLIGHT
TZOFFSETFROM:-0500
TZOFFSETTO:-0400
TZNAME:EDT
DTSTART:20230312T070000
END:DAYLIGHT
BEGIN:STANDARD
TZOFFSETFROM:-0400
TZOFFSETTO:-0500
TZNAME:EST
DTSTART:20231105T060000
END:STANDARD
END:VTIMEZONE
BEGIN:VEVENT
DTSTART;TZID=America/New_York:20231215T084500
DTEND;TZID=America/New_York:20231215T114500
DTSTAMP:20260420T052718
CREATED:20231221T154550Z
LAST-MODIFIED:20231221T154550Z
UID:7533-1702629900-1702640700@infocrep.cssdm.gouv.qc.ca
SUMMARY:Atelier ou formation du CREP
DESCRIPTION:
URL:https://infocrep.cssdm.gouv.qc.ca/enseignants/event/atelier-ou-formation-du-crep/
CATEGORIES:Rencontres et formations
END:VEVENT
BEGIN:VEVENT
DTSTART;TZID=America/New_York:20231215T130000
DTEND;TZID=America/New_York:20231215T160000
DTSTAMP:20260420T052718
CREATED:20231221T154745Z
LAST-MODIFIED:20231221T154745Z
UID:7535-1702645200-1702656000@infocrep.cssdm.gouv.qc.ca
SUMMARY:Rencontre du service de la Francisation (FLS)
DESCRIPTION:
URL:https://infocrep.cssdm.gouv.qc.ca/enseignants/event/rencontre-du-service-de-la-francisation-fls/
CATEGORIES:Service Francisation
END:VEVENT
END:VCALENDAR