BEGIN:VCALENDAR
VERSION:2.0
PRODID:-//Section du personnel - Portail du CREP - ECPv6.10.3//NONSGML v1.0//EN
CALSCALE:GREGORIAN
METHOD:PUBLISH
X-WR-CALNAME:Section du personnel - Portail du CREP
X-ORIGINAL-URL:https://infocrep.cssdm.gouv.qc.ca/enseignants
X-WR-CALDESC:Évènements pour Section du personnel - Portail du CREP
REFRESH-INTERVAL;VALUE=DURATION:PT1H
X-Robots-Tag:noindex
X-PUBLISHED-TTL:PT1H
BEGIN:VTIMEZONE
TZID:America/New_York
BEGIN:DAYLIGHT
TZOFFSETFROM:-0500
TZOFFSETTO:-0400
TZNAME:EDT
DTSTART:20230312T070000
END:DAYLIGHT
BEGIN:STANDARD
TZOFFSETFROM:-0400
TZOFFSETTO:-0500
TZNAME:EST
DTSTART:20231105T060000
END:STANDARD
END:VTIMEZONE
BEGIN:VEVENT
DTSTART;TZID=America/New_York:20231027T133000
DTEND;TZID=America/New_York:20231027T160000
DTSTAMP:20260420T155905
CREATED:20230908T205048Z
LAST-MODIFIED:20231026T181225Z
UID:7167-1698413400-1698422400@infocrep.cssdm.gouv.qc.ca
SUMMARY:Rencontre de service de la Francisation
DESCRIPTION:27 octobre 2023 à 13h30 au CREP à la salle Jean-Baptiste Meilleur \nOrdre du jour : \n\nPoints d’information\nSuite de la formation de l’équipe collaborative\nPériode de questions
URL:https://infocrep.cssdm.gouv.qc.ca/enseignants/event/rencontre-de-service-de-la-francisation-4/
CATEGORIES:Rencontres et formations,Service Francisation
ATTACH;FMTTYPE=image/png:https://infocrep.cssdm.gouv.qc.ca/enseignants/wp-content/uploads/sites/6/2022/01/FLS.png
END:VEVENT
END:VCALENDAR