BEGIN:VCALENDAR
VERSION:2.0
PRODID:-//Section du personnel - Portail du CREP - ECPv6.10.3//NONSGML v1.0//EN
CALSCALE:GREGORIAN
METHOD:PUBLISH
X-WR-CALNAME:Section du personnel - Portail du CREP
X-ORIGINAL-URL:https://infocrep.cssdm.gouv.qc.ca/enseignants
X-WR-CALDESC:Évènements pour Section du personnel - Portail du CREP
REFRESH-INTERVAL;VALUE=DURATION:PT1H
X-Robots-Tag:noindex
X-PUBLISHED-TTL:PT1H
BEGIN:VTIMEZONE
TZID:America/New_York
BEGIN:DAYLIGHT
TZOFFSETFROM:-0500
TZOFFSETTO:-0400
TZNAME:EDT
DTSTART:20230312T070000
END:DAYLIGHT
BEGIN:STANDARD
TZOFFSETFROM:-0400
TZOFFSETTO:-0500
TZNAME:EST
DTSTART:20231105T060000
END:STANDARD
END:VTIMEZONE
BEGIN:VEVENT
DTSTART;TZID=America/New_York:20231020T084500
DTEND;TZID=America/New_York:20231020T114500
DTSTAMP:20260420T155910
CREATED:20230908T204556Z
LAST-MODIFIED:20231018T154939Z
UID:7160-1697791500-1697802300@infocrep.cssdm.gouv.qc.ca
SUMMARY:Rencontre du service de l'Intégration sociale
DESCRIPTION:Voici le menu du jour de la rencontre d’IS de ce vendredi. Les CP ont travaillé (très) fort afin de vous faire vivre une expérience hors du commun pour un 20 octobre. \nÀ apporter avec vous \n\nVotre copie du programme d’étude de participation sociale;\nVotre ordinateur ou un téléphone à poche (Les CP ont préparé une activité interactive numérique);\nRéfléchir à une activité ou à un atelier que vous donnez présentement et qui pourrait être associé à un des cours du programme de participation sociale.\n\nMenu du jour \n8h45 – 9h00 \n\nAccueil et jasette\n\n9h00 – 10h00 \n\nPop Quiz interactif programme PS – Maitrises-tu les concepts?\n\n10h00 – 11h00 \n\nTravaux d’équipe et plénière – Analyse d’une situation d’apprentissage réelle et lien avec le programme PS.\n\n11h00 – 11h15 \n\nPause\n\n11h15 \n\nInformations stratégiques (tous)\n\n11h30- 12h00 \n\nIS RAÉ : Demandes d’examens\, profils de formations scolaires et tests diagnostiques\nTous les autres: travail personnel et/ou en équipe
URL:https://infocrep.cssdm.gouv.qc.ca/enseignants/event/rencontre-du-service-de-lintegration-sociale-4/
CATEGORIES:Rencontres et formations,Service de l'Intégration sociale
ATTACH;FMTTYPE=image/jpeg:https://infocrep.cssdm.gouv.qc.ca/enseignants/wp-content/uploads/sites/6/2021/10/image-IS.jpg
END:VEVENT
BEGIN:VEVENT
DTSTART;TZID=America/New_York:20231020T130000
DTEND;TZID=America/New_York:20231020T141500
DTSTAMP:20260420T155910
CREATED:20230908T204656Z
LAST-MODIFIED:20230908T204656Z
UID:7163-1697806800-1697811300@infocrep.cssdm.gouv.qc.ca
SUMMARY:CPEPE
DESCRIPTION:
URL:https://infocrep.cssdm.gouv.qc.ca/enseignants/event/cpepe-5/
CATEGORIES:Rencontres et formations
END:VEVENT
END:VCALENDAR