BEGIN:VCALENDAR
VERSION:2.0
PRODID:-//Section du personnel - Portail du CREP - ECPv6.10.3//NONSGML v1.0//EN
CALSCALE:GREGORIAN
METHOD:PUBLISH
X-WR-CALNAME:Section du personnel - Portail du CREP
X-ORIGINAL-URL:https://infocrep.cssdm.gouv.qc.ca/enseignants
X-WR-CALDESC:Évènements pour Section du personnel - Portail du CREP
REFRESH-INTERVAL;VALUE=DURATION:PT1H
X-Robots-Tag:noindex
X-PUBLISHED-TTL:PT1H
BEGIN:VTIMEZONE
TZID:America/New_York
BEGIN:DAYLIGHT
TZOFFSETFROM:-0500
TZOFFSETTO:-0400
TZNAME:EDT
DTSTART:20230312T070000
END:DAYLIGHT
BEGIN:STANDARD
TZOFFSETFROM:-0400
TZOFFSETTO:-0500
TZNAME:EST
DTSTART:20231105T060000
END:STANDARD
END:VTIMEZONE
BEGIN:VEVENT
DTSTART;TZID=America/New_York:20231012T080000
DTEND;TZID=America/New_York:20231013T170000
DTSTAMP:20260420T155904
CREATED:20231003T192142Z
LAST-MODIFIED:20231003T192142Z
UID:7267-1697097600-1697216400@infocrep.cssdm.gouv.qc.ca
SUMMARY:Salon national de l'éducation: 12-13 octobre 2023 | Stade olympique
DESCRIPTION:Moins de 10 jours avant l’ouverture du Salon nationale de l’éducation. Pour inscrive votre visite de groupe\, remplissez votre formulaire d’inscription pour choisir le jour et l’heure de votre visite. \nLe Salon national de l’éducation\, c’est la possibilité d’explorer des formations\, des métiers et des professions dans plusieurs secteurs d’activité par le bais de zones d’exploration sectorielles et de stands d’exposition. \nDécouvrez-en quelques-uns dès maintenant…\nExplorez-les tous dans le cadre de votre visite de groupe 2023! \n\nhttps://www.salonnationaleducation.com/n/fr/accueil/
URL:https://infocrep.cssdm.gouv.qc.ca/enseignants/event/salon-national-de-leducation-12-13-octobre-2023-stade-olympique/
CATEGORIES:Événements externes,Grand public
ATTACH;FMTTYPE=image/png:https://infocrep.cssdm.gouv.qc.ca/enseignants/wp-content/uploads/sites/6/2023/10/salonE.png
END:VEVENT
BEGIN:VEVENT
DTSTART;TZID=America/New_York:20231013T084500
DTEND;TZID=America/New_York:20231013T114500
DTSTAMP:20260420T155904
CREATED:20230908T201521Z
LAST-MODIFIED:20230908T201521Z
UID:7158-1697186700-1697197500@infocrep.cssdm.gouv.qc.ca
SUMMARY:Rencontre de service de l'Intégration socioprofessionnelle (ISP)
DESCRIPTION:
URL:https://infocrep.cssdm.gouv.qc.ca/enseignants/event/rencontre-de-service-de-lintegration-socioprofessionnelle-isp-2/
CATEGORIES:Rencontres et formations,Service de l'Intégration socioprofessionnelle (ISP)
ATTACH;FMTTYPE=image/png:https://infocrep.cssdm.gouv.qc.ca/enseignants/wp-content/uploads/sites/6/2021/12/ISP-et-FLS.png
END:VEVENT
END:VCALENDAR