BEGIN:VCALENDAR
VERSION:2.0
PRODID:-//Section du personnel - Portail du CREP - ECPv6.10.3//NONSGML v1.0//EN
CALSCALE:GREGORIAN
METHOD:PUBLISH
X-WR-CALNAME:Section du personnel - Portail du CREP
X-ORIGINAL-URL:https://infocrep.cssdm.gouv.qc.ca/enseignants
X-WR-CALDESC:Évènements pour Section du personnel - Portail du CREP
REFRESH-INTERVAL;VALUE=DURATION:PT1H
X-Robots-Tag:noindex
X-PUBLISHED-TTL:PT1H
BEGIN:VTIMEZONE
TZID:America/New_York
BEGIN:DAYLIGHT
TZOFFSETFROM:-0500
TZOFFSETTO:-0400
TZNAME:EDT
DTSTART:20230312T070000
END:DAYLIGHT
BEGIN:STANDARD
TZOFFSETFROM:-0400
TZOFFSETTO:-0500
TZNAME:EST
DTSTART:20231105T060000
END:STANDARD
END:VTIMEZONE
BEGIN:VEVENT
DTSTART;TZID=America/New_York:20230911T084500
DTEND;TZID=America/New_York:20230911T114500
DTSTAMP:20260421T165314
CREATED:20230908T192657Z
LAST-MODIFIED:20230908T192657Z
UID:7137-1694421900-1694432700@infocrep.cssdm.gouv.qc.ca
SUMMARY:Rencontre de suivi à l'EDM
DESCRIPTION:Première rencontre d’équipe mensuelle du Centre de formation de l’EDM\nLundi le 11 septembre 2023\nDe 10h35 à 11h50\, Salle 3\n  \nOrdre du jour \n\n\n\n  \nSujets \n \nC : Consultation \nD : Discussion \nI  :  Information\nMinutes \nprévues\nSuivi et commentaire\n\n\nToute l’équipe   CSSDM  /CDF\n \n \n \n \n\n\nPrésentation de l’ordre du jour\nMarie-Nadège\nI\n5\n \n\n\nVolontaire pour la rencontre en lien avec les 2 tâches\nMarie-Nadège\nC\n1\n \n\n\nPrésentation des membres de l’équipe\nTour de table\nI\n5\n \n\n\nPrésentation du partenariat CREP/EDM\nMarie-Nadège\nI\n5\n \n\n\nAbsences\nMarie-Nadège\nI\n5\n \n\n\nTâches et horaires à signer\nMarie-Nadège\nI\n5\n \n\n\nJournées pédagogiques – Formation\nMarie-Nadège\nI\n5\n \n\n\nMandat\, horaire\, Formulaire demande de rencontre\, CFS\nJessica\nI\n10\n \n\n\nFormation sécuritaire\nChantal\nI\n5\n \n\n\nÉtat des inscriptions massives\nLise et Chantal\nI\n5\n \n\n\nOrganisation scolaire : Présentation du dossier administratif\nLise\nI\n10\n \n\n\nResponsabilités tâches : Lise /Julie Béland\nLise\nI\n5\n 
URL:https://infocrep.cssdm.gouv.qc.ca/enseignants/event/rencontre-de-suivi-a-ledm/
CATEGORIES:carcéral,Rencontres et formations
ATTACH;FMTTYPE=image/png:https://infocrep.cssdm.gouv.qc.ca/enseignants/wp-content/uploads/sites/6/2023/09/Carceral.png
END:VEVENT
END:VCALENDAR