BEGIN:VCALENDAR
VERSION:2.0
PRODID:-//Section du personnel - Portail du CREP - ECPv6.10.3//NONSGML v1.0//EN
CALSCALE:GREGORIAN
METHOD:PUBLISH
X-WR-CALNAME:Section du personnel - Portail du CREP
X-ORIGINAL-URL:https://infocrep.cssdm.gouv.qc.ca/enseignants
X-WR-CALDESC:Évènements pour Section du personnel - Portail du CREP
REFRESH-INTERVAL;VALUE=DURATION:PT1H
X-Robots-Tag:noindex
X-PUBLISHED-TTL:PT1H
BEGIN:VTIMEZONE
TZID:America/New_York
BEGIN:DAYLIGHT
TZOFFSETFROM:-0500
TZOFFSETTO:-0400
TZNAME:EDT
DTSTART:20230312T070000
END:DAYLIGHT
BEGIN:STANDARD
TZOFFSETFROM:-0400
TZOFFSETTO:-0500
TZNAME:EST
DTSTART:20231105T060000
END:STANDARD
END:VTIMEZONE
BEGIN:VEVENT
DTSTART;TZID=America/New_York:20230615T150500
DTEND;TZID=America/New_York:20230615T160500
DTSTAMP:20260421T172709
CREATED:20221007T200928Z
LAST-MODIFIED:20230523T170726Z
UID:5198-1686841500-1686845100@infocrep.cssdm.gouv.qc.ca
SUMMARY:Rencontre du service de la Francisation - Reportée au 16 juin\, de 13h à 15h
DESCRIPTION:Les détails suivront bientôt.
URL:https://infocrep.cssdm.gouv.qc.ca/enseignants/event/rencontre-du-service-de-la-francisation-6/
CATEGORIES:Rencontres et formations
ATTACH;FMTTYPE=image/png:https://infocrep.cssdm.gouv.qc.ca/enseignants/wp-content/uploads/sites/6/2022/01/FLS.png
END:VEVENT
END:VCALENDAR