BEGIN:VCALENDAR
VERSION:2.0
PRODID:-//Section du personnel - Portail du CREP - ECPv6.10.3//NONSGML v1.0//EN
CALSCALE:GREGORIAN
METHOD:PUBLISH
X-WR-CALNAME:Section du personnel - Portail du CREP
X-ORIGINAL-URL:https://infocrep.cssdm.gouv.qc.ca/enseignants
X-WR-CALDESC:Évènements pour Section du personnel - Portail du CREP
REFRESH-INTERVAL;VALUE=DURATION:PT1H
X-Robots-Tag:noindex
X-PUBLISHED-TTL:PT1H
BEGIN:VTIMEZONE
TZID:America/New_York
BEGIN:DAYLIGHT
TZOFFSETFROM:-0500
TZOFFSETTO:-0400
TZNAME:EDT
DTSTART:20230312T070000
END:DAYLIGHT
BEGIN:STANDARD
TZOFFSETFROM:-0400
TZOFFSETTO:-0500
TZNAME:EST
DTSTART:20231105T060000
END:STANDARD
END:VTIMEZONE
BEGIN:VEVENT
DTSTART;TZID=America/New_York:20230602T090000
DTEND;TZID=America/New_York:20230602T120000
DTSTAMP:20260421T172711
CREATED:20230419T170243Z
LAST-MODIFIED:20230523T164742Z
UID:6627-1685696400-1685707200@infocrep.cssdm.gouv.qc.ca
SUMMARY:Rencontre du service de l’Intégration sociale (IS) - Reportée au 16 juin\, 9h
DESCRIPTION:Rencontre reportée au 16 juin à 9h au CREP dans la salle Collaboration.
URL:https://infocrep.cssdm.gouv.qc.ca/enseignants/event/rencontre-du-service-de-lintegration-sociale-is-2/
CATEGORIES:Rencontres et formations
ATTACH;FMTTYPE=image/jpeg:https://infocrep.cssdm.gouv.qc.ca/enseignants/wp-content/uploads/sites/6/2023/04/image-IS.jpg
END:VEVENT
BEGIN:VEVENT
DTSTART;TZID=America/New_York:20230602T133000
DTEND;TZID=America/New_York:20230602T153000
DTSTAMP:20260421T172711
CREATED:20230329T185545Z
LAST-MODIFIED:20230517T144042Z
UID:6527-1685712600-1685719800@infocrep.cssdm.gouv.qc.ca
SUMMARY:Pédag-café avec Maude
DESCRIPTION:De la flexibilité à l’accessibilité: Moment d’échange sur ce qu’est la conception universelle de l’apprentissage en comparant ce concept à d’autres options telles que la flexibilité pédagogique\, les mesures adaptatives ou la réponse à l’intervention (RAI). \nLes enseignants à taux horaire sont invités et seront rémunérés pour leur présence. \nVeuillez inscrire votre nom dans ce Doodle pour nous signifier votre présence: \nhttps://doodle.com/meeting/participate/id/el2voDgb
URL:https://infocrep.cssdm.gouv.qc.ca/enseignants/event/pedag-cafe-avec-maude-2/
CATEGORIES:Rencontres et formations
ATTACH;FMTTYPE=image/png:https://infocrep.cssdm.gouv.qc.ca/enseignants/wp-content/uploads/sites/6/2022/09/Collaboration.png
END:VEVENT
END:VCALENDAR