BEGIN:VCALENDAR
VERSION:2.0
PRODID:-//Section du personnel - Portail du CREP - ECPv6.10.3//NONSGML v1.0//EN
CALSCALE:GREGORIAN
METHOD:PUBLISH
X-WR-CALNAME:Section du personnel - Portail du CREP
X-ORIGINAL-URL:https://infocrep.cssdm.gouv.qc.ca/enseignants
X-WR-CALDESC:Évènements pour Section du personnel - Portail du CREP
REFRESH-INTERVAL;VALUE=DURATION:PT1H
X-Robots-Tag:noindex
X-PUBLISHED-TTL:PT1H
BEGIN:VTIMEZONE
TZID:America/New_York
BEGIN:DAYLIGHT
TZOFFSETFROM:-0500
TZOFFSETTO:-0400
TZNAME:EDT
DTSTART:20230312T070000
END:DAYLIGHT
BEGIN:STANDARD
TZOFFSETFROM:-0400
TZOFFSETTO:-0500
TZNAME:EST
DTSTART:20231105T060000
END:STANDARD
END:VTIMEZONE
BEGIN:VEVENT
DTSTART;TZID=America/New_York:20230421T090000
DTEND;TZID=America/New_York:20230421T120000
DTSTAMP:20260423T103721
CREATED:20230228T151145Z
LAST-MODIFIED:20230419T153550Z
UID:6277-1682067600-1682078400@infocrep.cssdm.gouv.qc.ca
SUMMARY:Rencontre du service de l’Intégration socioprofessionnelle (ISP)
DESCRIPTION:Rencontre ISP du 21 avril 2023 à 9h au CREP\n  \nN’oubliez pas d’apporter votre ordinateur.\nOrdre du Jour :\n\nProjet éducatif: présentation du comité de pilotage \nLes points stratégiques  \n\nFolio – Auto-déclaration pour tous les enseignant.e.s \n\n\n\n\n\n\nAssemblée de placement du personnel enseignant en FGA – Session d’été 2023 \n\n\n\n  \n\nTravail Collaboratif  \n\nRetour sur les équipes \nPoursuite du plan de travail (document collaboratif) \n\nÉvaluation du contenu pédagogique lié aux activités interactives ou de vos propres activités que vous souhaitez partager.   \n\n\n\n\n\n\n\n\nNouveautés :  \n\nCanaux dans l’équipe Team \n\n\n\n\n\nChoix et dépôt de ressources dans les différents sigles des cours inspirants
URL:https://infocrep.cssdm.gouv.qc.ca/enseignants/event/rencontre-du-service-de-lintegration-socioprofessionnelle-isp-7/
CATEGORIES:Rencontres et formations
ATTACH;FMTTYPE=image/png:https://infocrep.cssdm.gouv.qc.ca/enseignants/wp-content/uploads/sites/6/2021/12/ISP-et-FLS.png
END:VEVENT
END:VCALENDAR