BEGIN:VCALENDAR
VERSION:2.0
PRODID:-//Section du personnel - Portail du CREP - ECPv6.10.3//NONSGML v1.0//EN
CALSCALE:GREGORIAN
METHOD:PUBLISH
X-WR-CALNAME:Section du personnel - Portail du CREP
X-ORIGINAL-URL:https://infocrep.cssdm.gouv.qc.ca/enseignants
X-WR-CALDESC:Évènements pour Section du personnel - Portail du CREP
REFRESH-INTERVAL;VALUE=DURATION:PT1H
X-Robots-Tag:noindex
X-PUBLISHED-TTL:PT1H
BEGIN:VTIMEZONE
TZID:America/New_York
BEGIN:DAYLIGHT
TZOFFSETFROM:-0500
TZOFFSETTO:-0400
TZNAME:EDT
DTSTART:20230312T070000
END:DAYLIGHT
BEGIN:STANDARD
TZOFFSETFROM:-0400
TZOFFSETTO:-0500
TZNAME:EST
DTSTART:20231105T060000
END:STANDARD
END:VTIMEZONE
BEGIN:VEVENT
DTSTART;TZID=America/New_York:20230320T103000
DTEND;TZID=America/New_York:20230320T115000
DTSTAMP:20260422T180707
CREATED:20221006T151335Z
LAST-MODIFIED:20230317T161914Z
UID:5136-1679308200-1679313000@infocrep.cssdm.gouv.qc.ca
SUMMARY:Rencontre d'équipe du milieu carcéral
DESCRIPTION:Lundi le 20 mars 2023\nDe 10h35 à 11h50\, Salle 3\n  \nOrdre du jour \n\n\n\n  \nSujets \n \nC : Consultation \nD : Discussion \nI  :  Information\nMinutes \nprévues\n\n\nToute l’équipe   CSSDM  /CDF\n \n \n \n\n\nVolontaire pour la rencontre en lien avec les 2 tâches\nMarie-Nadège\nC\n2\n\n\nPrésentation de l’ordre du jour\nMarie-Nadège\nI\n5\n\n\nFolio – Lancement du module d’autodéclaration        (13 mars 2023)\nMarie-Nadège\nI\n5\n\n\nFormulaire signature électronique (envoyé par courriel Tariq Ait Youcef)\nMarie-Nadège\nI\n5\n\n\nSuivi du projet éducatif\nMarie-Nadège\nI\n5\n\n\nLa culture à l’école – Fabrice Koffy (24 avril 2023)\nMarie-Nadège\nI\n5\n\n\n \n \n \n \n\n\nVarias…\n \n \n \n\n\n \n \n \n \n\n\n \n \n \n \n\n\n \n \n \n \n\n\nL’équipe CSSDM\n \n \n 
URL:https://infocrep.cssdm.gouv.qc.ca/enseignants/event/rencontre-dequipe-du-milieu-carceral-5/
CATEGORIES:carcéral,Rencontres et formations
ATTACH;FMTTYPE=image/png:https://infocrep.cssdm.gouv.qc.ca/enseignants/wp-content/uploads/sites/6/2022/10/Carceral_equipe.png
END:VEVENT
END:VCALENDAR